BEGIN:VCALENDAR
VERSION:2.0
PRODID:-//Stephen King France - ECPv6.15.20//NONSGML v1.0//EN
CALSCALE:GREGORIAN
METHOD:PUBLISH
X-WR-CALNAME:Stephen King France
X-ORIGINAL-URL:https://stephenkingfrance.fr
X-WR-CALDESC:Évènements pour Stephen King France
REFRESH-INTERVAL;VALUE=DURATION:PT1H
X-Robots-Tag:noindex
X-PUBLISHED-TTL:PT1H
BEGIN:VTIMEZONE
TZID:Europe/Paris
BEGIN:DAYLIGHT
TZOFFSETFROM:+0100
TZOFFSETTO:+0200
TZNAME:CEST
DTSTART:20240331T010000
END:DAYLIGHT
BEGIN:STANDARD
TZOFFSETFROM:+0200
TZOFFSETTO:+0100
TZNAME:CET
DTSTART:20241027T010000
END:STANDARD
BEGIN:DAYLIGHT
TZOFFSETFROM:+0100
TZOFFSETTO:+0200
TZNAME:CEST
DTSTART:20250330T010000
END:DAYLIGHT
BEGIN:STANDARD
TZOFFSETFROM:+0200
TZOFFSETTO:+0100
TZNAME:CET
DTSTART:20251026T010000
END:STANDARD
BEGIN:DAYLIGHT
TZOFFSETFROM:+0100
TZOFFSETTO:+0200
TZNAME:CEST
DTSTART:20260329T010000
END:DAYLIGHT
BEGIN:STANDARD
TZOFFSETFROM:+0200
TZOFFSETTO:+0100
TZNAME:CET
DTSTART:20261025T010000
END:STANDARD
END:VTIMEZONE
BEGIN:VEVENT
DTSTART;VALUE=DATE:20250819
DTEND;VALUE=DATE:20250820
DTSTAMP:20260419T223421
CREATED:20260414T133703Z
LAST-MODIFIED:20260414T151831Z
UID:22926-1755561600-1755647999@stephenkingfrance.fr
SUMMARY:[ANG] Parution de “The end of the World as we know it”
DESCRIPTION:Le 19 août 2025 paraîtra\, en anglais\, l’anthologie “The End of the World as\nwe know it : Tales of Stephen King’s The Stand” (“La fin du monde tel qu’on le connaît : contes sur Le Fléau de Stephen King“\, en français)\, un recueil de plus de 30 histoires de fin du monde préfacé par Stephen King lui-même. \n\nEn savoir plus
URL:https://stephenkingfrance.fr/agenda/ang-parution-de-the-end-of-the-world-as-we-know-it/
CATEGORIES:Livre
END:VEVENT
END:VCALENDAR