BEGIN:VCALENDAR
VERSION:2.0
PRODID:-//Stephen King France - ECPv6.15.20//NONSGML v1.0//EN
CALSCALE:GREGORIAN
METHOD:PUBLISH
X-ORIGINAL-URL:https://stephenkingfrance.fr
X-WR-CALDESC:Évènements pour Stephen King France
REFRESH-INTERVAL;VALUE=DURATION:PT1H
X-Robots-Tag:noindex
X-PUBLISHED-TTL:PT1H
BEGIN:VTIMEZONE
TZID:Europe/Paris
BEGIN:DAYLIGHT
TZOFFSETFROM:+0100
TZOFFSETTO:+0200
TZNAME:CEST
DTSTART:20240331T010000
END:DAYLIGHT
BEGIN:STANDARD
TZOFFSETFROM:+0200
TZOFFSETTO:+0100
TZNAME:CET
DTSTART:20241027T010000
END:STANDARD
BEGIN:DAYLIGHT
TZOFFSETFROM:+0100
TZOFFSETTO:+0200
TZNAME:CEST
DTSTART:20250330T010000
END:DAYLIGHT
BEGIN:STANDARD
TZOFFSETFROM:+0200
TZOFFSETTO:+0100
TZNAME:CET
DTSTART:20251026T010000
END:STANDARD
BEGIN:DAYLIGHT
TZOFFSETFROM:+0100
TZOFFSETTO:+0200
TZNAME:CEST
DTSTART:20260329T010000
END:DAYLIGHT
BEGIN:STANDARD
TZOFFSETFROM:+0200
TZOFFSETTO:+0100
TZNAME:CET
DTSTART:20261025T010000
END:STANDARD
END:VTIMEZONE
BEGIN:VEVENT
DTSTART;VALUE=DATE:20251016
DTEND;VALUE=DATE:20251017
DTSTAMP:20260419T170615
CREATED:20260414T133732Z
LAST-MODIFIED:20260414T151415Z
UID:22932-1760572800-1760659199@stephenkingfrance.fr
SUMMARY:[FR] La trilogie “Les Démons du Maïs” en Blu-ray et DVD
DESCRIPTION:Rimini Editions prévoit la sortie de la trilogie d’origine Les Démons du Maïs en coffret 3 Blu-Ray et 3 DVD\, le 16 octobre 2025. \nLe premier film Les Démons du Maïs est adapté de la nouvelle Les Enfants du Maïs\, de Stephen King\, parue en 1977 dans son recueil Danse Macabre (1980 en France). Ce film est le premier d’une longue série puisque la “franchise Démons du Maïs” compte désormais plus de 10 films\, dont la qualité baisse au fur et à mesure. \nPourtant\, Les Démons du Maïs a pris une place importante dans la tradition du folk horror américain\, ce qui explique peut-être les nombreux autres volets qui sortiront ensuite\, reprenant le thème d’enfants terrifiants\, voués à un culte mystérieux lié aux champs de maïs. \nEncore jamais sortis en Blu-Ray en France\, les 2 coffrets édités par Rimini Editions permettront de redécouvrir les 3 premiers films\, en VF ou en VOst dès le 16 octobre\, dans des versions entièrement restaurées. L’édition Blu-Ray est de plus accompagnée d’un superbe livret de 52 pages\, retraçant la genèse de toute la saga. \nLe coffret 3 Blu-Ray est au prix de 39\,99€\, et le coffret 3 DVD au prix de 29\,99€.
URL:https://stephenkingfrance.fr/agenda/fr-la-trilogie-les-demons-du-mais-en-blu-ray-et-dvd/
CATEGORIES:Blu-ray - DVD
END:VEVENT
BEGIN:VEVENT
DTSTART;VALUE=DATE:20251016
DTEND;VALUE=DATE:20251017
DTSTAMP:20260419T170615
CREATED:20260414T133732Z
LAST-MODIFIED:20260414T151447Z
UID:22933-1760572800-1760659199@stephenkingfrance.fr
SUMMARY:[FR] Le film “Life of Chuck” en Blu-Ray et DVD
DESCRIPTION:Adapté de la nouvelle La Vie de Chuck de Stephen King\, le film Life Of Chuck\, réalisé par Mike Flanagan\, arrive en Franc\ne\, en Blu-Ray et DVD\, le 16 octobre 2025. \nAcheter le film : sur Amazon / sur la FNAC
URL:https://stephenkingfrance.fr/agenda/fr-le-film-life-of-chuck-en-blu-ray-et-dvd/
CATEGORIES:Cinéma
END:VEVENT
END:VCALENDAR