BEGIN:VCALENDAR
VERSION:2.0
PRODID:-//Stephen King France - ECPv6.15.20//NONSGML v1.0//EN
CALSCALE:GREGORIAN
METHOD:PUBLISH
X-ORIGINAL-URL:https://stephenkingfrance.fr
X-WR-CALDESC:Évènements pour Stephen King France
REFRESH-INTERVAL;VALUE=DURATION:PT1H
X-Robots-Tag:noindex
X-PUBLISHED-TTL:PT1H
BEGIN:VTIMEZONE
TZID:Europe/Paris
BEGIN:DAYLIGHT
TZOFFSETFROM:+0100
TZOFFSETTO:+0200
TZNAME:CEST
DTSTART:20240331T010000
END:DAYLIGHT
BEGIN:STANDARD
TZOFFSETFROM:+0200
TZOFFSETTO:+0100
TZNAME:CET
DTSTART:20241027T010000
END:STANDARD
BEGIN:DAYLIGHT
TZOFFSETFROM:+0100
TZOFFSETTO:+0200
TZNAME:CEST
DTSTART:20250330T010000
END:DAYLIGHT
BEGIN:STANDARD
TZOFFSETFROM:+0200
TZOFFSETTO:+0100
TZNAME:CET
DTSTART:20251026T010000
END:STANDARD
BEGIN:DAYLIGHT
TZOFFSETFROM:+0100
TZOFFSETTO:+0200
TZNAME:CEST
DTSTART:20260329T010000
END:DAYLIGHT
BEGIN:STANDARD
TZOFFSETFROM:+0200
TZOFFSETTO:+0100
TZNAME:CET
DTSTART:20261025T010000
END:STANDARD
END:VTIMEZONE
BEGIN:VEVENT
DTSTART;TZID=Europe/Paris:20250105T140000
DTEND;TZID=Europe/Paris:20250105T170000
DTSTAMP:20260420T230804
CREATED:20260420T095333Z
LAST-MODIFIED:20260420T095333Z
UID:23252-1736085600-1736096400@stephenkingfrance.fr
SUMMARY:[FR] Live Twitch - Bilan de l'actu 2024 de Stephen King et récap de ce qui nous attend en 2025
DESCRIPTION:Le 5 janvier 2025\, rendez-vous sur Twitch pour récapituler tout ce qu’il s’est passé dans l’univers de Stephen King en 2024\, et ce qui nous attend en 2025. \nSuivez la chaîne twitch.tv/emilie_skf pour ne pas manquer l’événement ! \nLe replay sera en ligne sur YouTube et en version audio sur le flux de podcasts de La Gazette du Maine les jours qui suivent.
URL:https://stephenkingfrance.fr/agenda/fr-live-twitch-bilan-de-lactu-2024-de-stephen-king-et-recap-de-ce-qui-nous-attend-en-2025/
CATEGORIES:Twitch
END:VEVENT
END:VCALENDAR