BEGIN:VCALENDAR
VERSION:2.0
PRODID:-//Stephen King France - ECPv6.15.20//NONSGML v1.0//EN
CALSCALE:GREGORIAN
METHOD:PUBLISH
X-WR-CALNAME:Stephen King France
X-ORIGINAL-URL:https://stephenkingfrance.fr
X-WR-CALDESC:Évènements pour Stephen King France
REFRESH-INTERVAL;VALUE=DURATION:PT1H
X-Robots-Tag:noindex
X-PUBLISHED-TTL:PT1H
BEGIN:VTIMEZONE
TZID:Europe/Paris
BEGIN:DAYLIGHT
TZOFFSETFROM:+0100
TZOFFSETTO:+0200
TZNAME:CEST
DTSTART:20230326T010000
END:DAYLIGHT
BEGIN:STANDARD
TZOFFSETFROM:+0200
TZOFFSETTO:+0100
TZNAME:CET
DTSTART:20231029T010000
END:STANDARD
BEGIN:DAYLIGHT
TZOFFSETFROM:+0100
TZOFFSETTO:+0200
TZNAME:CEST
DTSTART:20240331T010000
END:DAYLIGHT
BEGIN:STANDARD
TZOFFSETFROM:+0200
TZOFFSETTO:+0100
TZNAME:CET
DTSTART:20241027T010000
END:STANDARD
BEGIN:DAYLIGHT
TZOFFSETFROM:+0100
TZOFFSETTO:+0200
TZNAME:CEST
DTSTART:20250330T010000
END:DAYLIGHT
BEGIN:STANDARD
TZOFFSETFROM:+0200
TZOFFSETTO:+0100
TZNAME:CET
DTSTART:20251026T010000
END:STANDARD
END:VTIMEZONE
BEGIN:VEVENT
DTSTART;TZID=Europe/Paris:20240707T150000
DTEND;TZID=Europe/Paris:20240707T173000
DTSTAMP:20260423T101450
CREATED:20260420T100429Z
LAST-MODIFIED:20260420T100429Z
UID:23272-1720364400-1720373400@stephenkingfrance.fr
SUMMARY:[FR] Live Twitch : l'actu de Stephen King en juin !
DESCRIPTION:Parutions\, sorties ciné\, rééditions\, produits dérivés…\nDimanche 7 juillet\, à 15h\, on débriefe l’actualité de Stephen King en live ! \nVenez discuter de King sur Twitch et suivez la chaîne pour ne pas manquer l’événement : https://www.twitch.tv/emilie_skf \nCe live sera disponible en replay sur la chaîne YouTube les jours suivants !
URL:https://stephenkingfrance.fr/agenda/fr-live-twitch-lactu-de-stephen-king-en-juin-2/
CATEGORIES:Twitch
END:VEVENT
BEGIN:VEVENT
DTSTART;TZID=Europe/Paris:20240730T090000
DTEND;TZID=Europe/Paris:20240730T113000
DTSTAMP:20260423T101450
CREATED:20260420T100356Z
LAST-MODIFIED:20260420T100356Z
UID:23270-1722330000-1722339000@stephenkingfrance.fr
SUMMARY:[FR] Live Twitch “La 19e Palabre” : fin de résumé\, théories et concepts de Terres Perdues (La Tour Sombre T.3)
DESCRIPTION:Rendez-vous pour le 30 juillet\, à 21h sur Twitch\, pour le 3e live de l’équipe de “La 19e Palabre” dans lequel on va terminer ensemble le résumé de Terres Perdues\, et revenir sur des théories et concepts de ce tome 3 du cycle de La Tour Sombre ! \n\nSuivez la chaîne pour ne pas le manquer
URL:https://stephenkingfrance.fr/agenda/fr-live-twitch-la-19e-palabre-fin-de-resume-theories-et-concepts-de-terres-perdues-la-tour-sombre-t-3/
CATEGORIES:Twitch
END:VEVENT
END:VCALENDAR