BEGIN:VCALENDAR
VERSION:2.0
PRODID:-//Stephen King France - ECPv6.15.20//NONSGML v1.0//EN
CALSCALE:GREGORIAN
METHOD:PUBLISH
X-ORIGINAL-URL:https://stephenkingfrance.fr
X-WR-CALDESC:Évènements pour Stephen King France
REFRESH-INTERVAL;VALUE=DURATION:PT1H
X-Robots-Tag:noindex
X-PUBLISHED-TTL:PT1H
BEGIN:VTIMEZONE
TZID:Europe/Paris
BEGIN:DAYLIGHT
TZOFFSETFROM:+0100
TZOFFSETTO:+0200
TZNAME:CEST
DTSTART:20230326T010000
END:DAYLIGHT
BEGIN:STANDARD
TZOFFSETFROM:+0200
TZOFFSETTO:+0100
TZNAME:CET
DTSTART:20231029T010000
END:STANDARD
BEGIN:DAYLIGHT
TZOFFSETFROM:+0100
TZOFFSETTO:+0200
TZNAME:CEST
DTSTART:20240331T010000
END:DAYLIGHT
BEGIN:STANDARD
TZOFFSETFROM:+0200
TZOFFSETTO:+0100
TZNAME:CET
DTSTART:20241027T010000
END:STANDARD
BEGIN:DAYLIGHT
TZOFFSETFROM:+0100
TZOFFSETTO:+0200
TZNAME:CEST
DTSTART:20250330T010000
END:DAYLIGHT
BEGIN:STANDARD
TZOFFSETFROM:+0200
TZOFFSETTO:+0100
TZNAME:CET
DTSTART:20251026T010000
END:STANDARD
END:VTIMEZONE
BEGIN:VEVENT
DTSTART;TZID=Europe/Paris:20240203T150000
DTEND;TZID=Europe/Paris:20240203T173000
DTSTAMP:20260424T001718
CREATED:20260420T101134Z
LAST-MODIFIED:20260420T101134Z
UID:23289-1706972400-1706981400@stephenkingfrance.fr
SUMMARY:[FR] Live Twitch : l'actu de Stephen King en janvier !
DESCRIPTION:Parutions\, sorties ciné\, rééditions\, produits dérivés…\nDimanche 4 février\, à 14h\, on débriefe l’actualité de Stephen King en live ! \nVenez discuter de King sur Twitch et suivez la chaîne pour ne pas manquer l’événement : https://www.twitch.tv/emilie_skf \nCe live sera disponible en replay sur la chaîne YouTube les jours suivants !
URL:https://stephenkingfrance.fr/agenda/fr-live-twitch-lactu-de-stephen-king-en-janvier-3/
CATEGORIES:Twitch
END:VEVENT
BEGIN:VEVENT
DTSTART;TZID=Europe/Paris:20240212T203000
DTEND;TZID=Europe/Paris:20240212T233000
DTSTAMP:20260424T001718
CREATED:20260420T101033Z
LAST-MODIFIED:20260420T101104Z
UID:23286-1707769800-1707780600@stephenkingfrance.fr
SUMMARY:[FR] Live Twitch : participez au grand quiz "100 questions sur Stephen King"
DESCRIPTION:Le 12 février 2024\, à 20h30\, ne manquez pas le grand quiz de 100 questions sur ma chaîne Twitch ! \n\nhttps://www.twitch.tv/emilie_skf\n\nPour fêter le 100e épisode de ma Gazette du Maine\, venez participer et montrer que vous êtes un incollable en Stephen King ! \nRendez-vous à 20h30 pour vous inscrire\, le quiz débutera à 21h : si vous arrivez après\, vous ne pourrez pas participer !
URL:https://stephenkingfrance.fr/agenda/fr-live-twitch-participez-au-grand-quiz-100-questions-sur-stephen-king/
CATEGORIES:Twitch
ATTACH;FMTTYPE=image/png:https://stephenkingfrance.fr/wp-content/uploads/2024/01/annonce-quiz-twitch.png
END:VEVENT
END:VCALENDAR