BEGIN:VCALENDAR
VERSION:2.0
PRODID:-//Stephen King France - ECPv6.15.20//NONSGML v1.0//EN
CALSCALE:GREGORIAN
METHOD:PUBLISH
X-WR-CALNAME:Stephen King France
X-ORIGINAL-URL:https://stephenkingfrance.fr
X-WR-CALDESC:Évènements pour Stephen King France
REFRESH-INTERVAL;VALUE=DURATION:PT1H
X-Robots-Tag:noindex
X-PUBLISHED-TTL:PT1H
BEGIN:VTIMEZONE
TZID:Europe/Paris
BEGIN:DAYLIGHT
TZOFFSETFROM:+0100
TZOFFSETTO:+0200
TZNAME:CEST
DTSTART:20220327T010000
END:DAYLIGHT
BEGIN:STANDARD
TZOFFSETFROM:+0200
TZOFFSETTO:+0100
TZNAME:CET
DTSTART:20221030T010000
END:STANDARD
BEGIN:DAYLIGHT
TZOFFSETFROM:+0100
TZOFFSETTO:+0200
TZNAME:CEST
DTSTART:20230326T010000
END:DAYLIGHT
BEGIN:STANDARD
TZOFFSETFROM:+0200
TZOFFSETTO:+0100
TZNAME:CET
DTSTART:20231029T010000
END:STANDARD
BEGIN:DAYLIGHT
TZOFFSETFROM:+0100
TZOFFSETTO:+0200
TZNAME:CEST
DTSTART:20240331T010000
END:DAYLIGHT
BEGIN:STANDARD
TZOFFSETFROM:+0200
TZOFFSETTO:+0100
TZNAME:CET
DTSTART:20241027T010000
END:STANDARD
END:VTIMEZONE
BEGIN:VEVENT
DTSTART;TZID=Europe/Paris:20231203T150000
DTEND;TZID=Europe/Paris:20231203T180000
DTSTAMP:20260424T022639
CREATED:20260420T101303Z
LAST-MODIFIED:20260420T101303Z
UID:23295-1701615600-1701626400@stephenkingfrance.fr
SUMMARY:[FR] Live Twitch : l'actu de Stephen King en novembre !
DESCRIPTION:Parutions\, sorties ciné\, rééditions\, produits dérivés…\nDimanche 3 décembre\, à 15h\, on débriefe l’actualité de Stephen King en live ! \nVenez discuter de King sur Twitch et suivez la chaîne pour ne pas manquer l’événement : https://www.twitch.tv/emilie_skf \nCe live sera disponible en replay sur la chaîne YouTube les jours suivants !
URL:https://stephenkingfrance.fr/agenda/fr-live-twitch-lactu-de-stephen-king-en-novembre-3/
CATEGORIES:Twitch
END:VEVENT
BEGIN:VEVENT
DTSTART;TZID=Europe/Paris:20231207T210000
DTEND;TZID=Europe/Paris:20231207T233000
DTSTAMP:20260424T022639
CREATED:20260420T101234Z
LAST-MODIFIED:20260420T101234Z
UID:23293-1701982800-1701991800@stephenkingfrance.fr
SUMMARY:[FR] Live Twitch "La 19e Palabre" : théories et concepts de Les Trois Cartes (La Tour Sombre T.2)
DESCRIPTION:Rendez-vous pour le 7 décembre\, à 21h sur Twitch\, pour le 2e live de l’équipe de “La 19e Palabre” dans lequel on va revenir ensemble sur des théories et concepts de Les Trois Cartes et de La Tour Sombre en général ! \n\nSuivez la chaîne pour ne pas le manquer
URL:https://stephenkingfrance.fr/agenda/fr-live-twitch-la-19e-palabre-theories-et-concepts-de-les-trois-cartes-la-tour-sombre-t-2/
CATEGORIES:Twitch
END:VEVENT
END:VCALENDAR