BEGIN:VCALENDAR
VERSION:2.0
PRODID:-//Stephen King France - ECPv6.15.20//NONSGML v1.0//EN
CALSCALE:GREGORIAN
METHOD:PUBLISH
X-WR-CALNAME:Stephen King France
X-ORIGINAL-URL:https://stephenkingfrance.fr
X-WR-CALDESC:Évènements pour Stephen King France
REFRESH-INTERVAL;VALUE=DURATION:PT1H
X-Robots-Tag:noindex
X-PUBLISHED-TTL:PT1H
BEGIN:VTIMEZONE
TZID:Europe/Paris
BEGIN:DAYLIGHT
TZOFFSETFROM:+0100
TZOFFSETTO:+0200
TZNAME:CEST
DTSTART:20220327T010000
END:DAYLIGHT
BEGIN:STANDARD
TZOFFSETFROM:+0200
TZOFFSETTO:+0100
TZNAME:CET
DTSTART:20221030T010000
END:STANDARD
BEGIN:DAYLIGHT
TZOFFSETFROM:+0100
TZOFFSETTO:+0200
TZNAME:CEST
DTSTART:20230326T010000
END:DAYLIGHT
BEGIN:STANDARD
TZOFFSETFROM:+0200
TZOFFSETTO:+0100
TZNAME:CET
DTSTART:20231029T010000
END:STANDARD
BEGIN:DAYLIGHT
TZOFFSETFROM:+0100
TZOFFSETTO:+0200
TZNAME:CEST
DTSTART:20240331T010000
END:DAYLIGHT
BEGIN:STANDARD
TZOFFSETFROM:+0200
TZOFFSETTO:+0100
TZNAME:CET
DTSTART:20241027T010000
END:STANDARD
END:VTIMEZONE
BEGIN:VEVENT
DTSTART;TZID=Europe/Paris:20230305T170000
DTEND;TZID=Europe/Paris:20230305T200000
DTSTAMP:20260424T140415
CREATED:20260420T114150Z
LAST-MODIFIED:20260420T114150Z
UID:23339-1678035600-1678046400@stephenkingfrance.fr
SUMMARY:[FR] Live Twitch - Débrief de l'actu de Stephen King en février et suite d'Alan Wake !
DESCRIPTION:Annonce d’un nouveau roman\, sorties ciné\, ré-éditions…\nDimanche 5 mars\, à 17h\, on débrief l’actu de Stephen King en live\, et après on continue notre recherche des réfs à King dans le jeu Alan Wake ! \nVenez discuter de King sur Twitch et suivez la chaîne pour ne pas manquer l’événement : https://www.twitch.tv/emilie_skf \nCe live sera disponible en replay sur la chaîne YouTube les jours suivants !
URL:https://stephenkingfrance.fr/agenda/fr-live-twitch-debrief-de-lactu-de-stephen-king-en-fevrier-et-suite-dalan-wake/
CATEGORIES:Twitch
END:VEVENT
END:VCALENDAR