BEGIN:VCALENDAR
VERSION:2.0
PRODID:-//Stephen King France - ECPv6.15.20//NONSGML v1.0//EN
CALSCALE:GREGORIAN
METHOD:PUBLISH
X-WR-CALNAME:Stephen King France
X-ORIGINAL-URL:https://stephenkingfrance.fr
X-WR-CALDESC:Évènements pour Stephen King France
REFRESH-INTERVAL;VALUE=DURATION:PT1H
X-Robots-Tag:noindex
X-PUBLISHED-TTL:PT1H
BEGIN:VTIMEZONE
TZID:Europe/Paris
BEGIN:DAYLIGHT
TZOFFSETFROM:+0100
TZOFFSETTO:+0200
TZNAME:CEST
DTSTART:20240331T010000
END:DAYLIGHT
BEGIN:STANDARD
TZOFFSETFROM:+0200
TZOFFSETTO:+0100
TZNAME:CET
DTSTART:20241027T010000
END:STANDARD
BEGIN:DAYLIGHT
TZOFFSETFROM:+0100
TZOFFSETTO:+0200
TZNAME:CEST
DTSTART:20250330T010000
END:DAYLIGHT
BEGIN:STANDARD
TZOFFSETFROM:+0200
TZOFFSETTO:+0100
TZNAME:CET
DTSTART:20251026T010000
END:STANDARD
BEGIN:DAYLIGHT
TZOFFSETFROM:+0100
TZOFFSETTO:+0200
TZNAME:CEST
DTSTART:20260329T010000
END:DAYLIGHT
BEGIN:STANDARD
TZOFFSETFROM:+0200
TZOFFSETTO:+0100
TZNAME:CET
DTSTART:20261025T010000
END:STANDARD
END:VTIMEZONE
BEGIN:VEVENT
DTSTART;VALUE=DATE:20250713
DTEND;VALUE=DATE:20250714
DTSTAMP:20260420T141506
CREATED:20260414T133702Z
LAST-MODIFIED:20260414T151942Z
UID:22923-1752364800-1752451199@stephenkingfrance.fr
SUMMARY:[FR] Début de diffusion de la série “L’Institut” aux Etats-Unis
DESCRIPTION:La série L’Institut\, adaptée du roman de Stephen King\, sera disponible aux Etats-Unis sur MGM+ dès le 13 juillet (avec 2 épisodes d’un coup)\, à raison d’un épisode par semaine dès le 3e épisode\, pour une fin de diffusion le 24 août. \nEn France\, rendez-vous le 17 juillet sur Max. \n\nVoir la bande-annonce de L’Institut
URL:https://stephenkingfrance.fr/agenda/fr-debut-de-diffusion-de-la-serie-linstitut-aux-etats-unis/
CATEGORIES:Télévision - Streaming
END:VEVENT
BEGIN:VEVENT
DTSTART;VALUE=DATE:20250717
DTEND;VALUE=DATE:20250718
DTSTAMP:20260420T141506
CREATED:20260414T133703Z
LAST-MODIFIED:20260414T151850Z
UID:22925-1752710400-1752796799@stephenkingfrance.fr
SUMMARY:[FR] Diffusion de la série “L’Institut” en France et en Belgique
DESCRIPTION:Attendue le 13 juillet aux Etats-Unis sur MGM+\, la série L’Institut\, adaptée de Stephen King\, arrivera France et en Belgique diffusée dès le 17 juillet sur la plateforme Max (bientôt HBO Max).
URL:https://stephenkingfrance.fr/agenda/fr-diffusion-de-la-serie-linstitut-en-france-et-en-belgique/
CATEGORIES:Télévision - Streaming
END:VEVENT
END:VCALENDAR