BEGIN:VCALENDAR
VERSION:2.0
PRODID:-//Stephen King France - ECPv6.15.20//NONSGML v1.0//EN
CALSCALE:GREGORIAN
METHOD:PUBLISH
X-WR-CALNAME:Stephen King France
X-ORIGINAL-URL:https://stephenkingfrance.fr
X-WR-CALDESC:Évènements pour Stephen King France
REFRESH-INTERVAL;VALUE=DURATION:PT1H
X-Robots-Tag:noindex
X-PUBLISHED-TTL:PT1H
BEGIN:VTIMEZONE
TZID:Europe/Paris
BEGIN:DAYLIGHT
TZOFFSETFROM:+0100
TZOFFSETTO:+0200
TZNAME:CEST
DTSTART:20230326T010000
END:DAYLIGHT
BEGIN:STANDARD
TZOFFSETFROM:+0200
TZOFFSETTO:+0100
TZNAME:CET
DTSTART:20231029T010000
END:STANDARD
BEGIN:DAYLIGHT
TZOFFSETFROM:+0100
TZOFFSETTO:+0200
TZNAME:CEST
DTSTART:20240331T010000
END:DAYLIGHT
BEGIN:STANDARD
TZOFFSETFROM:+0200
TZOFFSETTO:+0100
TZNAME:CET
DTSTART:20241027T010000
END:STANDARD
BEGIN:DAYLIGHT
TZOFFSETFROM:+0100
TZOFFSETTO:+0200
TZNAME:CEST
DTSTART:20250330T010000
END:DAYLIGHT
BEGIN:STANDARD
TZOFFSETFROM:+0200
TZOFFSETTO:+0100
TZNAME:CET
DTSTART:20251026T010000
END:STANDARD
END:VTIMEZONE
BEGIN:VEVENT
DTSTART;VALUE=DATE:20241003
DTEND;VALUE=DATE:20241004
DTSTAMP:20260423T090629
CREATED:20260414T133548Z
LAST-MODIFIED:20260414T153205Z
UID:22901-1727913600-1727999999@stephenkingfrance.fr
SUMMARY:FR | Diffusion du nouveau film adapté de “Salem”
DESCRIPTION:Le nouveau film “Salem”\, adapté du roman de Stephen King\, sera diffusé sur la plateforme de streaming Max\, en France\, le 3 octobre 2024. \nVoir le trailer
URL:https://stephenkingfrance.fr/agenda/fr-diffusion-du-nouveau-film-adapte-de-salem/
CATEGORIES:Télévision - Streaming
END:VEVENT
BEGIN:VEVENT
DTSTART;VALUE=DATE:20241003
DTEND;VALUE=DATE:20241004
DTSTAMP:20260423T090629
CREATED:20260420T100204Z
LAST-MODIFIED:20260420T100204Z
UID:23264-1727913600-1727999999@stephenkingfrance.fr
SUMMARY:[FR] Diffusion du nouveau film adapté de "Salem"
DESCRIPTION:Le nouveau film “Salem”\, adapté du roman de Stephen King\, sera diffusé sur la plateforme de streaming Max\, en France\, le 3 octobre 2024. \nVoir le trailer
URL:https://stephenkingfrance.fr/agenda/fr-diffusion-du-nouveau-film-adapte-de-salem-2/
CATEGORIES:Télévision - Streaming
END:VEVENT
END:VCALENDAR