BEGIN:VCALENDAR
VERSION:2.0
PRODID:-//Stephen King France - ECPv6.15.20//NONSGML v1.0//EN
CALSCALE:GREGORIAN
METHOD:PUBLISH
X-ORIGINAL-URL:https://stephenkingfrance.fr
X-WR-CALDESC:Évènements pour Stephen King France
REFRESH-INTERVAL;VALUE=DURATION:PT1H
X-Robots-Tag:noindex
X-PUBLISHED-TTL:PT1H
BEGIN:VTIMEZONE
TZID:Europe/Paris
BEGIN:DAYLIGHT
TZOFFSETFROM:+0100
TZOFFSETTO:+0200
TZNAME:CEST
DTSTART:20220327T010000
END:DAYLIGHT
BEGIN:STANDARD
TZOFFSETFROM:+0200
TZOFFSETTO:+0100
TZNAME:CET
DTSTART:20221030T010000
END:STANDARD
BEGIN:DAYLIGHT
TZOFFSETFROM:+0100
TZOFFSETTO:+0200
TZNAME:CEST
DTSTART:20230326T010000
END:DAYLIGHT
BEGIN:STANDARD
TZOFFSETFROM:+0200
TZOFFSETTO:+0100
TZNAME:CET
DTSTART:20231029T010000
END:STANDARD
BEGIN:DAYLIGHT
TZOFFSETFROM:+0100
TZOFFSETTO:+0200
TZNAME:CEST
DTSTART:20240331T010000
END:DAYLIGHT
BEGIN:STANDARD
TZOFFSETFROM:+0200
TZOFFSETTO:+0100
TZNAME:CET
DTSTART:20241027T010000
END:STANDARD
END:VTIMEZONE
BEGIN:VEVENT
DTSTART;VALUE=DATE:20231007
DTEND;VALUE=DATE:20231008
DTSTAMP:20260424T071150
CREATED:20260414T133502Z
LAST-MODIFIED:20260414T154352Z
UID:22883-1696636800-1696723199@stephenkingfrance.fr
SUMMARY:[US] Sortie du préquel de “Simetierre” sur Paramount+
DESCRIPTION:Le film préquel à Simetierre (titre définitif inconnu) est annoncé par IMDb pour une diffusion sur Paramount+ le 7 octobre 2023. \n\nPlus d’informations
URL:https://stephenkingfrance.fr/agenda/us-sortie-du-prequel-de-simetierre-sur-paramount/
CATEGORIES:Télévision - Streaming
END:VEVENT
BEGIN:VEVENT
DTSTART;VALUE=DATE:20231013
DTEND;VALUE=DATE:20231014
DTSTAMP:20260424T071150
CREATED:20260414T133503Z
LAST-MODIFIED:20260414T154314Z
UID:22885-1697155200-1697241599@stephenkingfrance.fr
SUMMARY:[US] Début de diffusion de “Creepshow” saison 4 sur Shudder
DESCRIPTION:La saison 4 de la série Creepshow\, par Greg Nicotero\, sera diffusée sur la plateforme américaine Shudder à partir du 13 octobre 2023.
URL:https://stephenkingfrance.fr/agenda/us-debut-de-diffusion-de-creepshow-saison-4-sur-shudder/
CATEGORIES:Télévision - Streaming
END:VEVENT
END:VCALENDAR