BEGIN:VCALENDAR
VERSION:2.0
PRODID:-//Stephen King France - ECPv6.15.20//NONSGML v1.0//EN
CALSCALE:GREGORIAN
METHOD:PUBLISH
X-WR-CALNAME:Stephen King France
X-ORIGINAL-URL:https://stephenkingfrance.fr
X-WR-CALDESC:Évènements pour Stephen King France
REFRESH-INTERVAL;VALUE=DURATION:PT1H
X-Robots-Tag:noindex
X-PUBLISHED-TTL:PT1H
BEGIN:VTIMEZONE
TZID:Europe/Paris
BEGIN:DAYLIGHT
TZOFFSETFROM:+0100
TZOFFSETTO:+0200
TZNAME:CEST
DTSTART:20220327T010000
END:DAYLIGHT
BEGIN:STANDARD
TZOFFSETFROM:+0200
TZOFFSETTO:+0100
TZNAME:CET
DTSTART:20221030T010000
END:STANDARD
BEGIN:DAYLIGHT
TZOFFSETFROM:+0100
TZOFFSETTO:+0200
TZNAME:CEST
DTSTART:20230326T010000
END:DAYLIGHT
BEGIN:STANDARD
TZOFFSETFROM:+0200
TZOFFSETTO:+0100
TZNAME:CET
DTSTART:20231029T010000
END:STANDARD
BEGIN:DAYLIGHT
TZOFFSETFROM:+0100
TZOFFSETTO:+0200
TZNAME:CEST
DTSTART:20240331T010000
END:DAYLIGHT
BEGIN:STANDARD
TZOFFSETFROM:+0200
TZOFFSETTO:+0100
TZNAME:CET
DTSTART:20241027T010000
END:STANDARD
END:VTIMEZONE
BEGIN:VEVENT
DTSTART;VALUE=DATE:20230920
DTEND;VALUE=DATE:20230921
DTSTAMP:20260424T123601
CREATED:20260414T133446Z
LAST-MODIFIED:20260414T154752Z
UID:22880-1695168000-1695254399@stephenkingfrance.fr
SUMMARY:[FR] Les 3 saisons de la série “Mr Mercedes” disponibles sur Disney
DESCRIPTION:Les trois saisons de la série Mr Mercedes seront disponibles en France dès le 20 septembre en streaming\, sur la plateforme Disney+. \nAttention\, la série ne suit pas l’ordre de la trilogie de Stephen King. La première saison adapte “Mr Mercedes” (tome 1)\, la deuxième saison adapte “Fin de Ronde” (tome 3)\, et la troisième saison adapte “Carnets Noirs” (tome 2). \nC’est unebonne nouvelle pour réviser une partie des aventures d’Holly Gibney à temps pour le nouveau roman de Stephen King : Holly ! \n\nToutes les actualités sur Mr Mercedes\n\n 
URL:https://stephenkingfrance.fr/agenda/fr-les-3-saisons-de-la-serie-mr-mercedes-disponibles-sur-disney/
CATEGORIES:Télévision - Streaming
END:VEVENT
END:VCALENDAR