BEGIN:VCALENDAR
VERSION:2.0
PRODID:-//Stephen King France - ECPv6.15.20//NONSGML v1.0//EN
CALSCALE:GREGORIAN
METHOD:PUBLISH
X-ORIGINAL-URL:https://stephenkingfrance.fr
X-WR-CALDESC:Évènements pour Stephen King France
REFRESH-INTERVAL;VALUE=DURATION:PT1H
X-Robots-Tag:noindex
X-PUBLISHED-TTL:PT1H
BEGIN:VTIMEZONE
TZID:Europe/Paris
BEGIN:DAYLIGHT
TZOFFSETFROM:+0100
TZOFFSETTO:+0200
TZNAME:CEST
DTSTART:20170326T010000
END:DAYLIGHT
BEGIN:STANDARD
TZOFFSETFROM:+0200
TZOFFSETTO:+0100
TZNAME:CET
DTSTART:20171029T010000
END:STANDARD
BEGIN:DAYLIGHT
TZOFFSETFROM:+0100
TZOFFSETTO:+0200
TZNAME:CEST
DTSTART:20180325T010000
END:DAYLIGHT
BEGIN:STANDARD
TZOFFSETFROM:+0200
TZOFFSETTO:+0100
TZNAME:CET
DTSTART:20181028T010000
END:STANDARD
BEGIN:DAYLIGHT
TZOFFSETFROM:+0100
TZOFFSETTO:+0200
TZNAME:CEST
DTSTART:20190331T010000
END:DAYLIGHT
BEGIN:STANDARD
TZOFFSETFROM:+0200
TZOFFSETTO:+0100
TZNAME:CET
DTSTART:20191027T010000
END:STANDARD
BEGIN:DAYLIGHT
TZOFFSETFROM:+0100
TZOFFSETTO:+0200
TZNAME:CEST
DTSTART:20200329T010000
END:DAYLIGHT
BEGIN:STANDARD
TZOFFSETFROM:+0200
TZOFFSETTO:+0100
TZNAME:CET
DTSTART:20201025T010000
END:STANDARD
BEGIN:DAYLIGHT
TZOFFSETFROM:+0100
TZOFFSETTO:+0200
TZNAME:CEST
DTSTART:20210328T010000
END:DAYLIGHT
BEGIN:STANDARD
TZOFFSETFROM:+0200
TZOFFSETTO:+0100
TZNAME:CET
DTSTART:20211031T010000
END:STANDARD
BEGIN:DAYLIGHT
TZOFFSETFROM:+0100
TZOFFSETTO:+0200
TZNAME:CEST
DTSTART:20220327T010000
END:DAYLIGHT
BEGIN:STANDARD
TZOFFSETFROM:+0200
TZOFFSETTO:+0100
TZNAME:CET
DTSTART:20221030T010000
END:STANDARD
BEGIN:DAYLIGHT
TZOFFSETFROM:+0100
TZOFFSETTO:+0200
TZNAME:CEST
DTSTART:20230326T010000
END:DAYLIGHT
BEGIN:STANDARD
TZOFFSETFROM:+0200
TZOFFSETTO:+0100
TZNAME:CET
DTSTART:20231029T010000
END:STANDARD
BEGIN:DAYLIGHT
TZOFFSETFROM:+0100
TZOFFSETTO:+0200
TZNAME:CEST
DTSTART:20240331T010000
END:DAYLIGHT
BEGIN:STANDARD
TZOFFSETFROM:+0200
TZOFFSETTO:+0100
TZNAME:CET
DTSTART:20241027T010000
END:STANDARD
BEGIN:DAYLIGHT
TZOFFSETFROM:+0100
TZOFFSETTO:+0200
TZNAME:CEST
DTSTART:20250330T010000
END:DAYLIGHT
BEGIN:STANDARD
TZOFFSETFROM:+0200
TZOFFSETTO:+0100
TZNAME:CET
DTSTART:20251026T010000
END:STANDARD
BEGIN:DAYLIGHT
TZOFFSETFROM:+0100
TZOFFSETTO:+0200
TZNAME:CEST
DTSTART:20260329T010000
END:DAYLIGHT
BEGIN:STANDARD
TZOFFSETFROM:+0200
TZOFFSETTO:+0100
TZNAME:CET
DTSTART:20261025T010000
END:STANDARD
BEGIN:DAYLIGHT
TZOFFSETFROM:+0100
TZOFFSETTO:+0200
TZNAME:CEST
DTSTART:20270328T010000
END:DAYLIGHT
BEGIN:STANDARD
TZOFFSETFROM:+0200
TZOFFSETTO:+0100
TZNAME:CET
DTSTART:20271031T010000
END:STANDARD
END:VTIMEZONE
BEGIN:VEVENT
DTSTART;TZID=Europe/Paris:20181031T210000
DTEND;TZID=Europe/Paris:20260424T223000
DTSTAMP:20260426T002306
CREATED:20180924T144322Z
LAST-MODIFIED:20260425T201753Z
UID:23706-1541019600-1777069800@stephenkingfrance.fr
SUMMARY:"Les Langoliers" sur TF1 Séries Films
DESCRIPTION:TF1 Séries Films\, chaîne gratuite de la TNT (canal 20 ; ex-HD1) prévoit pour Halloween un “Cycle Frissons” dont la programmation contient plusieurs adaptations de Stephen King. \n\n31 octobre – 21h : Les Langoliers ; Mini-série de 1995 de Tom Holland ; Adaptée de la nouvelle du même nom publiée en 1990 dans Minuit 2.\n\nVoir les autres films de Stephen King au programme de TF1 Séries Films : \nTF1 Séries Films diffuse plusieurs Stephen King dans son “Cycle Frissons” \n \n 
URL:https://stephenkingfrance.fr/agenda/les-langoliers-sur-tf1-series-films/
CATEGORIES:Télévision - Streaming
END:VEVENT
BEGIN:VEVENT
DTSTART;VALUE=DATE:20210512
DTEND;VALUE=DATE:20210513
DTSTAMP:20260426T002306
CREATED:20210421T073758Z
LAST-MODIFIED:20260425T195804Z
UID:23479-1620777600-1620863999@stephenkingfrance.fr
SUMMARY:[FR] Doctor Sleep disponible sur mycanal
DESCRIPTION:Le 12 mai\, le film Doctor Sleep de Mike Flanagan (adaptation du roman du même nom de Stephen King\, suite de Shining) sera diffusé sur Ciné+ Premier. Il sera dès cette date mis à disposition en VOD sur myCANAL pour les abonnés ayant Ciné+ dans leur abonnement. \nRappelons qu’est déjà disponible sur Ciné+ le film Simetierre de Mary Lambert (1989). \n 
URL:https://stephenkingfrance.fr/agenda/fr-doctor-sleep-disponible-sur-mycanal/
CATEGORIES:Télévision - Streaming
END:VEVENT
BEGIN:VEVENT
DTSTART;VALUE=DATE:20210512
DTEND;VALUE=DATE:20210513
DTSTAMP:20260426T002306
CREATED:20210421T073823Z
LAST-MODIFIED:20260425T195800Z
UID:23481-1620777600-1620863999@stephenkingfrance.fr
SUMMARY:[FR] La série "Under the Dome" disponible sur la plateforme Salto
DESCRIPTION:A partir du 12 mai\, les trois saisons de la série Under the Dome seront disponibles sur la plateforme de streaming française Salto. \nStephen King a écrit le scénario du premier épisode de la première saison et fait un caméo dans le premier épisode de la deuxième. Diffusée de 2013 à 2015\, seule la première saison est fidèle à l’œuvre de King. \nSi vous souhaitez la regarder\, notez que la plateforme Salto propose un mois gratuit ! \nEn savoir plus sur leur site
URL:https://stephenkingfrance.fr/agenda/fr-la-serie-under-the-dome-disponible-sur-la-plateforme-salto/
CATEGORIES:Télévision - Streaming
END:VEVENT
END:VCALENDAR