BEGIN:VCALENDAR
VERSION:2.0
PRODID:-//Stephen King France - ECPv6.15.20//NONSGML v1.0//EN
CALSCALE:GREGORIAN
METHOD:PUBLISH
X-ORIGINAL-URL:https://stephenkingfrance.fr
X-WR-CALDESC:Évènements pour Stephen King France
REFRESH-INTERVAL;VALUE=DURATION:PT1H
X-Robots-Tag:noindex
X-PUBLISHED-TTL:PT1H
BEGIN:VTIMEZONE
TZID:Europe/Paris
BEGIN:DAYLIGHT
TZOFFSETFROM:+0100
TZOFFSETTO:+0200
TZNAME:CEST
DTSTART:20170326T010000
END:DAYLIGHT
BEGIN:STANDARD
TZOFFSETFROM:+0200
TZOFFSETTO:+0100
TZNAME:CET
DTSTART:20171029T010000
END:STANDARD
BEGIN:DAYLIGHT
TZOFFSETFROM:+0100
TZOFFSETTO:+0200
TZNAME:CEST
DTSTART:20180325T010000
END:DAYLIGHT
BEGIN:STANDARD
TZOFFSETFROM:+0200
TZOFFSETTO:+0100
TZNAME:CET
DTSTART:20181028T010000
END:STANDARD
BEGIN:DAYLIGHT
TZOFFSETFROM:+0100
TZOFFSETTO:+0200
TZNAME:CEST
DTSTART:20190331T010000
END:DAYLIGHT
BEGIN:STANDARD
TZOFFSETFROM:+0200
TZOFFSETTO:+0100
TZNAME:CET
DTSTART:20191027T010000
END:STANDARD
BEGIN:DAYLIGHT
TZOFFSETFROM:+0100
TZOFFSETTO:+0200
TZNAME:CEST
DTSTART:20200329T010000
END:DAYLIGHT
BEGIN:STANDARD
TZOFFSETFROM:+0200
TZOFFSETTO:+0100
TZNAME:CET
DTSTART:20201025T010000
END:STANDARD
BEGIN:DAYLIGHT
TZOFFSETFROM:+0100
TZOFFSETTO:+0200
TZNAME:CEST
DTSTART:20210328T010000
END:DAYLIGHT
BEGIN:STANDARD
TZOFFSETFROM:+0200
TZOFFSETTO:+0100
TZNAME:CET
DTSTART:20211031T010000
END:STANDARD
BEGIN:DAYLIGHT
TZOFFSETFROM:+0100
TZOFFSETTO:+0200
TZNAME:CEST
DTSTART:20220327T010000
END:DAYLIGHT
BEGIN:STANDARD
TZOFFSETFROM:+0200
TZOFFSETTO:+0100
TZNAME:CET
DTSTART:20221030T010000
END:STANDARD
BEGIN:DAYLIGHT
TZOFFSETFROM:+0100
TZOFFSETTO:+0200
TZNAME:CEST
DTSTART:20230326T010000
END:DAYLIGHT
BEGIN:STANDARD
TZOFFSETFROM:+0200
TZOFFSETTO:+0100
TZNAME:CET
DTSTART:20231029T010000
END:STANDARD
BEGIN:DAYLIGHT
TZOFFSETFROM:+0100
TZOFFSETTO:+0200
TZNAME:CEST
DTSTART:20240331T010000
END:DAYLIGHT
BEGIN:STANDARD
TZOFFSETFROM:+0200
TZOFFSETTO:+0100
TZNAME:CET
DTSTART:20241027T010000
END:STANDARD
BEGIN:DAYLIGHT
TZOFFSETFROM:+0100
TZOFFSETTO:+0200
TZNAME:CEST
DTSTART:20250330T010000
END:DAYLIGHT
BEGIN:STANDARD
TZOFFSETFROM:+0200
TZOFFSETTO:+0100
TZNAME:CET
DTSTART:20251026T010000
END:STANDARD
BEGIN:DAYLIGHT
TZOFFSETFROM:+0100
TZOFFSETTO:+0200
TZNAME:CEST
DTSTART:20260329T010000
END:DAYLIGHT
BEGIN:STANDARD
TZOFFSETFROM:+0200
TZOFFSETTO:+0100
TZNAME:CET
DTSTART:20261025T010000
END:STANDARD
BEGIN:DAYLIGHT
TZOFFSETFROM:+0100
TZOFFSETTO:+0200
TZNAME:CEST
DTSTART:20270328T010000
END:DAYLIGHT
BEGIN:STANDARD
TZOFFSETFROM:+0200
TZOFFSETTO:+0100
TZNAME:CET
DTSTART:20271031T010000
END:STANDARD
END:VTIMEZONE
BEGIN:VEVENT
DTSTART;TZID=Europe/Paris:20181031T210000
DTEND;TZID=Europe/Paris:20260424T223000
DTSTAMP:20260426T012755
CREATED:20180924T144322Z
LAST-MODIFIED:20260425T201753Z
UID:23706-1541019600-1777069800@stephenkingfrance.fr
SUMMARY:"Les Langoliers" sur TF1 Séries Films
DESCRIPTION:TF1 Séries Films\, chaîne gratuite de la TNT (canal 20 ; ex-HD1) prévoit pour Halloween un “Cycle Frissons” dont la programmation contient plusieurs adaptations de Stephen King. \n\n31 octobre – 21h : Les Langoliers ; Mini-série de 1995 de Tom Holland ; Adaptée de la nouvelle du même nom publiée en 1990 dans Minuit 2.\n\nVoir les autres films de Stephen King au programme de TF1 Séries Films : \nTF1 Séries Films diffuse plusieurs Stephen King dans son “Cycle Frissons” \n \n 
URL:https://stephenkingfrance.fr/agenda/les-langoliers-sur-tf1-series-films/
CATEGORIES:Télévision - Streaming
END:VEVENT
BEGIN:VEVENT
DTSTART;VALUE=DATE:20210401
DTEND;VALUE=DATE:20210402
DTSTAMP:20260426T012755
CREATED:20210321T084035Z
LAST-MODIFIED:20260425T195824Z
UID:23487-1617235200-1617321599@stephenkingfrance.fr
SUMMARY:[USA] Creepshow saison 2 aux Etats-Unis
DESCRIPTION:Après un épisode animé pour Halloween et un épisode spécial Noël\, Creepshow annonce enfin sa 2e saison : ce sera pour le 1er avril sur la plateforme Shudder. Pour le moment rien n’est annoncé pour la France. \nShudder en a profité pour confirmer la saison 3 de 6 épisodes qui avait été commandée aux équipes pour continuer à leur donner du travail pendant le confinement\, car ils ne pouvaient pas tourner la saison 2. La saison 3 sera diffusée “plus tard cette année” : peut-être pour halloween comme pour la saison 1 ?
URL:https://stephenkingfrance.fr/agenda/usa-creepshow-saison-2-aux-etats-unis/
CATEGORIES:Télévision - Streaming
END:VEVENT
BEGIN:VEVENT
DTSTART;VALUE=DATE:20210423
DTEND;VALUE=DATE:20210427
DTSTAMP:20260426T012755
CREATED:20210321T084000Z
LAST-MODIFIED:20260425T195816Z
UID:23485-1619136000-1619481599@stephenkingfrance.fr
SUMMARY:[US] "Stephen King Rules" : festival en ligne de Dollar Babies
DESCRIPTION:Du 23 au 25 avril\, plusieurs dollar babies seront diffusés lors de “Stephen King Rules”\, un festival du dollar baby en ligne. \nLe festival sera diffusé sur les chaînes YouTube et Vimeo de Barker Street Cinema qui s’associe à James Douglas et Norm Coyne pour créer ce festival. Ils ont eux-mêmes réalisé un court-métrage adapté de Le Docteur Résout l’Enigme (recueil Rêves et Cauchemars) qui sera également diffusé lors du festival. \nEt en parlant de diffusion\, voici le planning complet :
URL:https://stephenkingfrance.fr/agenda/us-stephen-king-rules-festival-en-ligne-de-dollar-babies/
CATEGORIES:Cinéma,Télévision - Streaming
END:VEVENT
END:VCALENDAR