BEGIN:VCALENDAR
VERSION:2.0
PRODID:-//Stephen King France - ECPv6.15.20//NONSGML v1.0//EN
CALSCALE:GREGORIAN
METHOD:PUBLISH
X-ORIGINAL-URL:https://stephenkingfrance.fr
X-WR-CALDESC:Évènements pour Stephen King France
REFRESH-INTERVAL;VALUE=DURATION:PT1H
X-Robots-Tag:noindex
X-PUBLISHED-TTL:PT1H
BEGIN:VTIMEZONE
TZID:Europe/Paris
BEGIN:DAYLIGHT
TZOFFSETFROM:+0100
TZOFFSETTO:+0200
TZNAME:CEST
DTSTART:20230326T010000
END:DAYLIGHT
BEGIN:STANDARD
TZOFFSETFROM:+0200
TZOFFSETTO:+0100
TZNAME:CET
DTSTART:20231029T010000
END:STANDARD
BEGIN:DAYLIGHT
TZOFFSETFROM:+0100
TZOFFSETTO:+0200
TZNAME:CEST
DTSTART:20240331T010000
END:DAYLIGHT
BEGIN:STANDARD
TZOFFSETFROM:+0200
TZOFFSETTO:+0100
TZNAME:CET
DTSTART:20241027T010000
END:STANDARD
BEGIN:DAYLIGHT
TZOFFSETFROM:+0100
TZOFFSETTO:+0200
TZNAME:CEST
DTSTART:20250330T010000
END:DAYLIGHT
BEGIN:STANDARD
TZOFFSETFROM:+0200
TZOFFSETTO:+0100
TZNAME:CET
DTSTART:20251026T010000
END:STANDARD
END:VTIMEZONE
BEGIN:VEVENT
DTSTART;VALUE=DATE:20240309
DTEND;VALUE=DATE:20240310
DTSTAMP:20260425T033858
CREATED:20260420T100845Z
LAST-MODIFIED:20260420T100845Z
UID:23280-1709942400-1710028799@stephenkingfrance.fr
SUMMARY:[ANG] L'opéra "Shining" disponible en audio
DESCRIPTION:Une version audio (double disque) de l’opéra adapté du Shining de Stephen King va être commercialisée le 12 avril par le label Pentatone. \n\nPlus d’informations
URL:https://stephenkingfrance.fr/agenda/ang-lopera-shining-disponible-en-audio/
CATEGORIES:Musique
END:VEVENT
END:VCALENDAR