BEGIN:VCALENDAR
VERSION:2.0
PRODID:-//Stephen King France - ECPv6.15.20//NONSGML v1.0//EN
CALSCALE:GREGORIAN
METHOD:PUBLISH
X-WR-CALNAME:Stephen King France
X-ORIGINAL-URL:https://stephenkingfrance.fr
X-WR-CALDESC:Évènements pour Stephen King France
REFRESH-INTERVAL;VALUE=DURATION:PT1H
X-Robots-Tag:noindex
X-PUBLISHED-TTL:PT1H
BEGIN:VTIMEZONE
TZID:Europe/Paris
BEGIN:DAYLIGHT
TZOFFSETFROM:+0100
TZOFFSETTO:+0200
TZNAME:CEST
DTSTART:20240331T010000
END:DAYLIGHT
BEGIN:STANDARD
TZOFFSETFROM:+0200
TZOFFSETTO:+0100
TZNAME:CET
DTSTART:20241027T010000
END:STANDARD
BEGIN:DAYLIGHT
TZOFFSETFROM:+0100
TZOFFSETTO:+0200
TZNAME:CEST
DTSTART:20250330T010000
END:DAYLIGHT
BEGIN:STANDARD
TZOFFSETFROM:+0200
TZOFFSETTO:+0100
TZNAME:CET
DTSTART:20251026T010000
END:STANDARD
BEGIN:DAYLIGHT
TZOFFSETFROM:+0100
TZOFFSETTO:+0200
TZNAME:CEST
DTSTART:20260329T010000
END:DAYLIGHT
BEGIN:STANDARD
TZOFFSETFROM:+0200
TZOFFSETTO:+0100
TZNAME:CET
DTSTART:20261025T010000
END:STANDARD
END:VTIMEZONE
BEGIN:VEVENT
DTSTART;VALUE=DATE:20250212
DTEND;VALUE=DATE:20250213
DTSTAMP:20260422T063859
CREATED:20260420T095229Z
LAST-MODIFIED:20260420T095229Z
UID:23248-1739318400-1739404799@stephenkingfrance.fr
SUMMARY:[FR] Rockyrama HS n°11 : Stephen King
DESCRIPTION:Le 12 février 2025\, le magazine Rockyrama publie un hors-série spécial Stephen King. \nVous pouvez le précommander auprès de votre libraire habituel\, mais aussi sur Amazon ou sur la FNAC. \nPrésentation : \nDepuis près d’un demi-siècle et au fil d’une soixantaine de romans\, le prince incontesté de l’horreur et du fantastique n’en finit plus de nous faire tressaillir. Dans les recoins d’une Amérique où le mal prend racine\, Stephen King explore cette part d’ombre qui se cache en chacun de nous… Ses histoires cathartiques\, poétiques\, métaphores des grands traumas de l’Amérique\, sont bientôt prises d’assaut par des réalisateurs en quête de frisson\, faisant de l’écrivain l’un des auteurs les plus adaptés sur grand écran. De Carrie aux Évadés\, en passant par Shining\, Misery ou Ça\, Stephen King devient bientôt l’une des plus sûres marques de fabrique du septième art\, dont le nom seul ouvre la porte aux ténèbres. Dans ce nouveau hors-série\, Rockyrama se penche sur l’œuvre culte de Stephen King\, et sur l’empreinte indélébile qu’il laisse sur le cinéma…
URL:https://stephenkingfrance.fr/agenda/fr-rockyrama-hs-n11-stephen-king/
CATEGORIES:Magazine
ATTACH;FMTTYPE=image/jpeg:https://stephenkingfrance.fr/wp-content/uploads/2024/11/rockyrama.jpg
END:VEVENT
END:VCALENDAR