BEGIN:VCALENDAR
VERSION:2.0
PRODID:-//Stephen King France - ECPv6.15.20//NONSGML v1.0//EN
CALSCALE:GREGORIAN
METHOD:PUBLISH
X-WR-CALNAME:Stephen King France
X-ORIGINAL-URL:https://stephenkingfrance.fr
X-WR-CALDESC:Évènements pour Stephen King France
REFRESH-INTERVAL;VALUE=DURATION:PT1H
X-Robots-Tag:noindex
X-PUBLISHED-TTL:PT1H
BEGIN:VTIMEZONE
TZID:Europe/Paris
BEGIN:DAYLIGHT
TZOFFSETFROM:+0100
TZOFFSETTO:+0200
TZNAME:CEST
DTSTART:20200329T010000
END:DAYLIGHT
BEGIN:STANDARD
TZOFFSETFROM:+0200
TZOFFSETTO:+0100
TZNAME:CET
DTSTART:20201025T010000
END:STANDARD
BEGIN:DAYLIGHT
TZOFFSETFROM:+0100
TZOFFSETTO:+0200
TZNAME:CEST
DTSTART:20210328T010000
END:DAYLIGHT
BEGIN:STANDARD
TZOFFSETFROM:+0200
TZOFFSETTO:+0100
TZNAME:CET
DTSTART:20211031T010000
END:STANDARD
BEGIN:DAYLIGHT
TZOFFSETFROM:+0100
TZOFFSETTO:+0200
TZNAME:CEST
DTSTART:20220327T010000
END:DAYLIGHT
BEGIN:STANDARD
TZOFFSETFROM:+0200
TZOFFSETTO:+0100
TZNAME:CET
DTSTART:20221030T010000
END:STANDARD
END:VTIMEZONE
BEGIN:VEVENT
DTSTART;TZID=Europe/Paris:20211028T080000
DTEND;TZID=Europe/Paris:20211028T170000
DTSTAMP:20260425T153056
CREATED:20260420T122045Z
LAST-MODIFIED:20260420T122045Z
UID:23441-1635408000-1635440400@stephenkingfrance.fr
SUMMARY:[FR] Parution de la nouvelle "Willie le Zinzin"
DESCRIPTION:La nouvelle Willie the Weirdo sera publiée en français sous le nom Willie le Zinzin dans le numéro 104 du magazine Bifrost prévu pour le 28 octobre. La nouvelle sera traduite par Pierre-Paul Durastanti.\n\n\n\nEn anglais elle ne sera publiée que le 6 janvier 2022 (elle était initialement prévue pour septembre 2021).
URL:https://stephenkingfrance.fr/agenda/fr-parution-de-la-nouvelle-willie-le-zinzin/
CATEGORIES:Magazine
END:VEVENT
END:VCALENDAR