BEGIN:VCALENDAR
VERSION:2.0
PRODID:-//Stephen King France - ECPv6.15.20//NONSGML v1.0//EN
CALSCALE:GREGORIAN
METHOD:PUBLISH
X-ORIGINAL-URL:https://stephenkingfrance.fr
X-WR-CALDESC:Évènements pour Stephen King France
REFRESH-INTERVAL;VALUE=DURATION:PT1H
X-Robots-Tag:noindex
X-PUBLISHED-TTL:PT1H
BEGIN:VTIMEZONE
TZID:Europe/Paris
BEGIN:DAYLIGHT
TZOFFSETFROM:+0100
TZOFFSETTO:+0200
TZNAME:CEST
DTSTART:20250330T010000
END:DAYLIGHT
BEGIN:STANDARD
TZOFFSETFROM:+0200
TZOFFSETTO:+0100
TZNAME:CET
DTSTART:20251026T010000
END:STANDARD
BEGIN:DAYLIGHT
TZOFFSETFROM:+0100
TZOFFSETTO:+0200
TZNAME:CEST
DTSTART:20260329T010000
END:DAYLIGHT
BEGIN:STANDARD
TZOFFSETFROM:+0200
TZOFFSETTO:+0100
TZNAME:CET
DTSTART:20261025T010000
END:STANDARD
BEGIN:DAYLIGHT
TZOFFSETFROM:+0100
TZOFFSETTO:+0200
TZNAME:CEST
DTSTART:20270328T010000
END:DAYLIGHT
BEGIN:STANDARD
TZOFFSETFROM:+0200
TZOFFSETTO:+0100
TZNAME:CET
DTSTART:20271031T010000
END:STANDARD
END:VTIMEZONE
BEGIN:VEVENT
DTSTART;VALUE=DATE:20260929
DTEND;VALUE=DATE:20260930
DTSTAMP:20260423T201740
CREATED:20260414T133833Z
LAST-MODIFIED:20260414T153643Z
UID:22954-1790640000-1790726399@stephenkingfrance.fr
SUMMARY:[ANG] “John Mellencamp The Songbook” avec une préface de Stephen King
DESCRIPTION:John Mellencamp (guitariste\, compositeur\, acteur\, réalisateur…) et Stephen King on créé en 2011 la comédie musicale Ghost Brothers of Darkland County\, qui revient en tournée cette année. \nLe 29 septembre 2026\, l’éditeur Rizzoli publiera un recueil de chansons de John Mellencamp\, dont la préface est signée Stephen King. \nLe livre de 272 pages est proposé au prix de 50€\, et peut être commandé en France sur Amazon.
URL:https://stephenkingfrance.fr/agenda/ang-john-mellencamp-the-songbook-avec-une-preface-de-stephen-ki/
CATEGORIES:Livre
ATTACH;FMTTYPE=image/jpeg:https://stephenkingfrance.fr/wp-content/uploads/2026/03/john-mellencamp-livre-preface-stephen-king.jpg
END:VEVENT
END:VCALENDAR