BEGIN:VCALENDAR
VERSION:2.0
PRODID:-//Stephen King France - ECPv6.15.20//NONSGML v1.0//EN
CALSCALE:GREGORIAN
METHOD:PUBLISH
X-WR-CALNAME:Stephen King France
X-ORIGINAL-URL:https://stephenkingfrance.fr
X-WR-CALDESC:Évènements pour Stephen King France
REFRESH-INTERVAL;VALUE=DURATION:PT1H
X-Robots-Tag:noindex
X-PUBLISHED-TTL:PT1H
BEGIN:VTIMEZONE
TZID:Europe/Paris
BEGIN:DAYLIGHT
TZOFFSETFROM:+0100
TZOFFSETTO:+0200
TZNAME:CEST
DTSTART:20250330T010000
END:DAYLIGHT
BEGIN:STANDARD
TZOFFSETFROM:+0200
TZOFFSETTO:+0100
TZNAME:CET
DTSTART:20251026T010000
END:STANDARD
BEGIN:DAYLIGHT
TZOFFSETFROM:+0100
TZOFFSETTO:+0200
TZNAME:CEST
DTSTART:20260329T010000
END:DAYLIGHT
BEGIN:STANDARD
TZOFFSETFROM:+0200
TZOFFSETTO:+0100
TZNAME:CET
DTSTART:20261025T010000
END:STANDARD
BEGIN:DAYLIGHT
TZOFFSETFROM:+0100
TZOFFSETTO:+0200
TZNAME:CEST
DTSTART:20270328T010000
END:DAYLIGHT
BEGIN:STANDARD
TZOFFSETFROM:+0200
TZOFFSETTO:+0100
TZNAME:CET
DTSTART:20271031T010000
END:STANDARD
END:VTIMEZONE
BEGIN:VEVENT
DTSTART;VALUE=DATE:20260804
DTEND;VALUE=DATE:20260805
DTSTAMP:20260422T003113
CREATED:20260419T194834Z
LAST-MODIFIED:20260419T194834Z
UID:23215-1785801600-1785887999@stephenkingfrance.fr
SUMMARY:[ANG] Édition spéciale 40 ans de "Ça" chez Scribner
DESCRIPTION:Le roman “Ça”\, initialement publié en 1986\, fêtera ses 40 ans cette année. Pour l’occasion\, Scribner sortira une édition reliée collector\, disponible à 50 dollars sur Amazon.\n\n \n\nLe site du Stephen King Catalog annonce un volume de 1 168 pages avec une nouvelle illustration de couverture\, des tranches colorées (jaspage / sprayed edges) et des gardes intérieures illustrées en quatre couleurs.\n\n \n\nLa sortie est annoncée pour le 4 août 2026.
URL:https://stephenkingfrance.fr/agenda/edition-speciale-40-ans-ca-scribner/
CATEGORIES:Livre
ATTACH;FMTTYPE=image/webp:https://stephenkingfrance.fr/wp-content/uploads/2026/04/stephenking-it-edition-anniversaire-speciale-40ans-ca.webp
END:VEVENT
END:VCALENDAR