BEGIN:VCALENDAR
VERSION:2.0
PRODID:-//Stephen King France - ECPv6.15.20//NONSGML v1.0//EN
CALSCALE:GREGORIAN
METHOD:PUBLISH
X-WR-CALNAME:Stephen King France
X-ORIGINAL-URL:https://stephenkingfrance.fr
X-WR-CALDESC:Évènements pour Stephen King France
REFRESH-INTERVAL;VALUE=DURATION:PT1H
X-Robots-Tag:noindex
X-PUBLISHED-TTL:PT1H
BEGIN:VTIMEZONE
TZID:Europe/Paris
BEGIN:DAYLIGHT
TZOFFSETFROM:+0100
TZOFFSETTO:+0200
TZNAME:CEST
DTSTART:20200329T010000
END:DAYLIGHT
BEGIN:STANDARD
TZOFFSETFROM:+0200
TZOFFSETTO:+0100
TZNAME:CET
DTSTART:20201025T010000
END:STANDARD
BEGIN:DAYLIGHT
TZOFFSETFROM:+0100
TZOFFSETTO:+0200
TZNAME:CEST
DTSTART:20210328T010000
END:DAYLIGHT
BEGIN:STANDARD
TZOFFSETFROM:+0200
TZOFFSETTO:+0100
TZNAME:CET
DTSTART:20211031T010000
END:STANDARD
BEGIN:DAYLIGHT
TZOFFSETFROM:+0100
TZOFFSETTO:+0200
TZNAME:CEST
DTSTART:20220327T010000
END:DAYLIGHT
BEGIN:STANDARD
TZOFFSETFROM:+0200
TZOFFSETTO:+0100
TZNAME:CET
DTSTART:20221030T010000
END:STANDARD
BEGIN:DAYLIGHT
TZOFFSETFROM:+0100
TZOFFSETTO:+0200
TZNAME:CEST
DTSTART:20230326T010000
END:DAYLIGHT
BEGIN:STANDARD
TZOFFSETFROM:+0200
TZOFFSETTO:+0100
TZNAME:CET
DTSTART:20231029T010000
END:STANDARD
BEGIN:DAYLIGHT
TZOFFSETFROM:+0100
TZOFFSETTO:+0200
TZNAME:CEST
DTSTART:20240331T010000
END:DAYLIGHT
BEGIN:STANDARD
TZOFFSETFROM:+0200
TZOFFSETTO:+0100
TZNAME:CET
DTSTART:20241027T010000
END:STANDARD
BEGIN:DAYLIGHT
TZOFFSETFROM:+0100
TZOFFSETTO:+0200
TZNAME:CEST
DTSTART:20250330T010000
END:DAYLIGHT
BEGIN:STANDARD
TZOFFSETFROM:+0200
TZOFFSETTO:+0100
TZNAME:CET
DTSTART:20251026T010000
END:STANDARD
BEGIN:DAYLIGHT
TZOFFSETFROM:+0100
TZOFFSETTO:+0200
TZNAME:CEST
DTSTART:20260329T010000
END:DAYLIGHT
BEGIN:STANDARD
TZOFFSETFROM:+0200
TZOFFSETTO:+0100
TZNAME:CET
DTSTART:20261025T010000
END:STANDARD
BEGIN:DAYLIGHT
TZOFFSETFROM:+0100
TZOFFSETTO:+0200
TZNAME:CEST
DTSTART:20270328T010000
END:DAYLIGHT
BEGIN:STANDARD
TZOFFSETFROM:+0200
TZOFFSETTO:+0100
TZNAME:CET
DTSTART:20271031T010000
END:STANDARD
END:VTIMEZONE
BEGIN:VEVENT
DTSTART;VALUE=DATE:20211007
DTEND;VALUE=DATE:20260421
DTSTAMP:20260422T154055
CREATED:20260420T122148Z
LAST-MODIFIED:20260420T122148Z
UID:23446-1633564800-1776729599@stephenkingfrance.fr
SUMMARY:[FR] "La Clé des Vents" (La Tour Sombre T.8) en livre audio chez Audible
DESCRIPTION:La Clé des Vents\, le 8e tome du cycle La Tour Sombre dont l’histoire se déroule entre les tomes 4 et 5\, sera publié en livre audio par Audible le 19 août 2021.. \nIl sera lu par Nicolas Justamon et durera 9h32. \n\nEn savoir plus
URL:https://stephenkingfrance.fr/agenda/fr-la-cle-des-vents-la-tour-sombre-t-8-en-livre-audio-chez-audible/
CATEGORIES:Livre
END:VEVENT
BEGIN:VEVENT
DTSTART;VALUE=DATE:20230201
DTEND;VALUE=DATE:20260421
DTSTAMP:20260422T154055
CREATED:20260420T115157Z
LAST-MODIFIED:20260420T115157Z
UID:23346-1675209600-1776729599@stephenkingfrance.fr
SUMMARY:[FR] Parution de "Après" en poche
DESCRIPTION:Le roman Après (Later) de Stephen King sera publié en poche\, aux éditions du Livre de Poche\, le 1ᵉʳ février 2023. \n\nPlus d’informations
URL:https://stephenkingfrance.fr/agenda/fr-parution-de-apres-en-poche/
CATEGORIES:Livre
END:VEVENT
BEGIN:VEVENT
DTSTART;VALUE=DATE:20251015
DTEND;VALUE=DATE:20251016
DTSTAMP:20260422T154055
CREATED:20260414T133718Z
LAST-MODIFIED:20260414T151505Z
UID:22931-1760486400-1760572799@stephenkingfrance.fr
SUMMARY:[FR] “Hansel et Gretel” réécrit par Stephen King en français
DESCRIPTION:Stephen King a écrit une réinterprétation du conte “Hansel et Gretel” des Frères Grimm qui paraîtra en français (Albin Michel avec L’Ecole des Loisirs) le 15 octobre 2025. \n\nPrécommander sur Amazon / sur la FNAC\nPlus d’informations
URL:https://stephenkingfrance.fr/agenda/fr-hansel-et-gretel-reecrit-par-stephen-king-en-francais/
CATEGORIES:Livre
END:VEVENT
BEGIN:VEVENT
DTSTART;VALUE=DATE:20251022
DTEND;VALUE=DATE:20251023
DTSTAMP:20260422T154055
CREATED:20260414T133733Z
LAST-MODIFIED:20260414T151239Z
UID:22935-1761091200-1761177599@stephenkingfrance.fr
SUMMARY:[FR] “La peau sur les os” en livre audio
DESCRIPTION:Lue par Mathieu Buscatto\, la version audio du roman La peau sur les os\, de Stephen King\, est prévue pour le 22 octobre 2025\, chez Audiolib. \nLa durée annoncée est de 12h27. \n\nPrécommande
URL:https://stephenkingfrance.fr/agenda/fr-la-peau-sur-les-os-en-livre-audio/
CATEGORIES:Livre
END:VEVENT
BEGIN:VEVENT
DTSTART;VALUE=DATE:20251029
DTEND;VALUE=DATE:20251030
DTSTAMP:20260422T154055
CREATED:20260414T133747Z
LAST-MODIFIED:20260414T150529Z
UID:22937-1761696000-1761782399@stephenkingfrance.fr
SUMMARY:[FR] Nouvelle traduction de “Carrie” en collector au Livre de Poche
DESCRIPTION:Le Livre de Poche publiera\, le 29 octobre 2025\, une édition collector de Carrie dans une traduction revue par Jean Esch. Cette édition en grand format\, avec jaspage et couverture rigide\, est également préfacée par l’autrice Margaret Atwood. \n\nPrécommander la nouvelle traduction collector de Carrie\, de Stephen King : sur Amazon / sur la FNAC
URL:https://stephenkingfrance.fr/agenda/fr-nouvelle-traduction-de-carrie-en-collector-au-livre-de-poche/
CATEGORIES:Livre
END:VEVENT
BEGIN:VEVENT
DTSTART;VALUE=DATE:20251029
DTEND;VALUE=DATE:20251030
DTSTAMP:20260422T154055
CREATED:20260414T133747Z
LAST-MODIFIED:20260414T150550Z
UID:22938-1761696000-1761782399@stephenkingfrance.fr
SUMMARY:[FR] Nouvelle traduction de “Territoires” en édition collector
DESCRIPTION:Les éditions Albin Michel publient le 29 octobre 2025 le roman Territoires\, de Stephen King et Peter Straub\, dans une édition collector avec une nouvelle traduction. \n\nPlus d’informations\nPrécommander : sur Amazon / sur la FNAC
URL:https://stephenkingfrance.fr/agenda/fr-nouvelle-traduction-de-territoires-en-edition-collector/
CATEGORIES:Livre
END:VEVENT
END:VCALENDAR