BEGIN:VCALENDAR
VERSION:2.0
PRODID:-//Stephen King France - ECPv6.15.20//NONSGML v1.0//EN
CALSCALE:GREGORIAN
METHOD:PUBLISH
X-WR-CALNAME:Stephen King France
X-ORIGINAL-URL:https://stephenkingfrance.fr
X-WR-CALDESC:Évènements pour Stephen King France
REFRESH-INTERVAL;VALUE=DURATION:PT1H
X-Robots-Tag:noindex
X-PUBLISHED-TTL:PT1H
BEGIN:VTIMEZONE
TZID:Europe/Paris
BEGIN:DAYLIGHT
TZOFFSETFROM:+0100
TZOFFSETTO:+0200
TZNAME:CEST
DTSTART:20200329T010000
END:DAYLIGHT
BEGIN:STANDARD
TZOFFSETFROM:+0200
TZOFFSETTO:+0100
TZNAME:CET
DTSTART:20201025T010000
END:STANDARD
BEGIN:DAYLIGHT
TZOFFSETFROM:+0100
TZOFFSETTO:+0200
TZNAME:CEST
DTSTART:20210328T010000
END:DAYLIGHT
BEGIN:STANDARD
TZOFFSETFROM:+0200
TZOFFSETTO:+0100
TZNAME:CET
DTSTART:20211031T010000
END:STANDARD
BEGIN:DAYLIGHT
TZOFFSETFROM:+0100
TZOFFSETTO:+0200
TZNAME:CEST
DTSTART:20220327T010000
END:DAYLIGHT
BEGIN:STANDARD
TZOFFSETFROM:+0200
TZOFFSETTO:+0100
TZNAME:CET
DTSTART:20221030T010000
END:STANDARD
BEGIN:DAYLIGHT
TZOFFSETFROM:+0100
TZOFFSETTO:+0200
TZNAME:CEST
DTSTART:20230326T010000
END:DAYLIGHT
BEGIN:STANDARD
TZOFFSETFROM:+0200
TZOFFSETTO:+0100
TZNAME:CET
DTSTART:20231029T010000
END:STANDARD
BEGIN:DAYLIGHT
TZOFFSETFROM:+0100
TZOFFSETTO:+0200
TZNAME:CEST
DTSTART:20240331T010000
END:DAYLIGHT
BEGIN:STANDARD
TZOFFSETFROM:+0200
TZOFFSETTO:+0100
TZNAME:CET
DTSTART:20241027T010000
END:STANDARD
BEGIN:DAYLIGHT
TZOFFSETFROM:+0100
TZOFFSETTO:+0200
TZNAME:CEST
DTSTART:20250330T010000
END:DAYLIGHT
BEGIN:STANDARD
TZOFFSETFROM:+0200
TZOFFSETTO:+0100
TZNAME:CET
DTSTART:20251026T010000
END:STANDARD
BEGIN:DAYLIGHT
TZOFFSETFROM:+0100
TZOFFSETTO:+0200
TZNAME:CEST
DTSTART:20260329T010000
END:DAYLIGHT
BEGIN:STANDARD
TZOFFSETFROM:+0200
TZOFFSETTO:+0100
TZNAME:CET
DTSTART:20261025T010000
END:STANDARD
BEGIN:DAYLIGHT
TZOFFSETFROM:+0100
TZOFFSETTO:+0200
TZNAME:CEST
DTSTART:20270328T010000
END:DAYLIGHT
BEGIN:STANDARD
TZOFFSETFROM:+0200
TZOFFSETTO:+0100
TZNAME:CET
DTSTART:20271031T010000
END:STANDARD
END:VTIMEZONE
BEGIN:VEVENT
DTSTART;VALUE=DATE:20211007
DTEND;VALUE=DATE:20260421
DTSTAMP:20260423T090627
CREATED:20260420T122148Z
LAST-MODIFIED:20260420T122148Z
UID:23446-1633564800-1776729599@stephenkingfrance.fr
SUMMARY:[FR] "La Clé des Vents" (La Tour Sombre T.8) en livre audio chez Audible
DESCRIPTION:La Clé des Vents\, le 8e tome du cycle La Tour Sombre dont l’histoire se déroule entre les tomes 4 et 5\, sera publié en livre audio par Audible le 19 août 2021.. \nIl sera lu par Nicolas Justamon et durera 9h32. \n\nEn savoir plus
URL:https://stephenkingfrance.fr/agenda/fr-la-cle-des-vents-la-tour-sombre-t-8-en-livre-audio-chez-audible/
CATEGORIES:Livre
END:VEVENT
BEGIN:VEVENT
DTSTART;VALUE=DATE:20230201
DTEND;VALUE=DATE:20260421
DTSTAMP:20260423T090627
CREATED:20260420T115157Z
LAST-MODIFIED:20260420T115157Z
UID:23346-1675209600-1776729599@stephenkingfrance.fr
SUMMARY:[FR] Parution de "Après" en poche
DESCRIPTION:Le roman Après (Later) de Stephen King sera publié en poche\, aux éditions du Livre de Poche\, le 1ᵉʳ février 2023. \n\nPlus d’informations
URL:https://stephenkingfrance.fr/agenda/fr-parution-de-apres-en-poche/
CATEGORIES:Livre
END:VEVENT
BEGIN:VEVENT
DTSTART;VALUE=DATE:20240207
DTEND;VALUE=DATE:20240208
DTSTAMP:20260423T090627
CREATED:20260414T133518Z
LAST-MODIFIED:20260414T154113Z
UID:22890-1707264000-1707350399@stephenkingfrance.fr
SUMMARY:[FR] Le roman “Billy Summers” au Livre de Poche
DESCRIPTION:Publié en septembre 2022 en français chez Albin Michel\, le roman Billy Summers\, de Stephen King\, est enfin annoncé en petit format : la version poche paraîtra le 7 février 2024. \nBilly Summers est l’histoire d’“un tueur à gages\, et le meilleur du secteur. Mais il ne fera le travail que si la cible est vraiment un méchant. Et maintenant Billy veut arrêter mais d’abord\, il y a un dernier coup à faire. Billy est l’un des meilleurs tireurs d’élite au monde\, un vétéran décoré de la guerre en Irak\, un Houdini lorsqu’il s’agit de disparaître une fois le travail terminé. Alors qu’est-ce qui pourrait mal tourner ?” \n\nDécouvrez mon avis\, les trigger warning (sujets sensibles du livre) et ses connexions avec le multivers\nPrécommandez Billy Summers au Livre de Poche : sur la FNAC\n/ sur Amazon
URL:https://stephenkingfrance.fr/agenda/fr-le-roman-billy-summers-au-livre-de-poche/
CATEGORIES:Livre
END:VEVENT
BEGIN:VEVENT
DTSTART;VALUE=DATE:20240228
DTEND;VALUE=DATE:20240229
DTSTAMP:20260423T090627
CREATED:20260420T100947Z
LAST-MODIFIED:20260420T100947Z
UID:23284-1709078400-1709164799@stephenkingfrance.fr
SUMMARY:[FR] Parution du roman "Holly" en français
DESCRIPTION:Le roman “Holly” de Stephen King paraîtra en français le 28 février 2024\, aux éditions Albin Michel ! \n\nInfos et précommandes
URL:https://stephenkingfrance.fr/agenda/fr-parution-du-roman-holly-en-francais/
CATEGORIES:Livre
END:VEVENT
END:VCALENDAR