BEGIN:VCALENDAR
VERSION:2.0
PRODID:-//Stephen King France - ECPv6.15.20//NONSGML v1.0//EN
CALSCALE:GREGORIAN
METHOD:PUBLISH
X-ORIGINAL-URL:https://stephenkingfrance.fr
X-WR-CALDESC:Évènements pour Stephen King France
REFRESH-INTERVAL;VALUE=DURATION:PT1H
X-Robots-Tag:noindex
X-PUBLISHED-TTL:PT1H
BEGIN:VTIMEZONE
TZID:Europe/Paris
BEGIN:DAYLIGHT
TZOFFSETFROM:+0100
TZOFFSETTO:+0200
TZNAME:CEST
DTSTART:20200329T010000
END:DAYLIGHT
BEGIN:STANDARD
TZOFFSETFROM:+0200
TZOFFSETTO:+0100
TZNAME:CET
DTSTART:20201025T010000
END:STANDARD
BEGIN:DAYLIGHT
TZOFFSETFROM:+0100
TZOFFSETTO:+0200
TZNAME:CEST
DTSTART:20210328T010000
END:DAYLIGHT
BEGIN:STANDARD
TZOFFSETFROM:+0200
TZOFFSETTO:+0100
TZNAME:CET
DTSTART:20211031T010000
END:STANDARD
BEGIN:DAYLIGHT
TZOFFSETFROM:+0100
TZOFFSETTO:+0200
TZNAME:CEST
DTSTART:20220327T010000
END:DAYLIGHT
BEGIN:STANDARD
TZOFFSETFROM:+0200
TZOFFSETTO:+0100
TZNAME:CET
DTSTART:20221030T010000
END:STANDARD
BEGIN:DAYLIGHT
TZOFFSETFROM:+0100
TZOFFSETTO:+0200
TZNAME:CEST
DTSTART:20230326T010000
END:DAYLIGHT
BEGIN:STANDARD
TZOFFSETFROM:+0200
TZOFFSETTO:+0100
TZNAME:CET
DTSTART:20231029T010000
END:STANDARD
BEGIN:DAYLIGHT
TZOFFSETFROM:+0100
TZOFFSETTO:+0200
TZNAME:CEST
DTSTART:20240331T010000
END:DAYLIGHT
BEGIN:STANDARD
TZOFFSETFROM:+0200
TZOFFSETTO:+0100
TZNAME:CET
DTSTART:20241027T010000
END:STANDARD
BEGIN:DAYLIGHT
TZOFFSETFROM:+0100
TZOFFSETTO:+0200
TZNAME:CEST
DTSTART:20250330T010000
END:DAYLIGHT
BEGIN:STANDARD
TZOFFSETFROM:+0200
TZOFFSETTO:+0100
TZNAME:CET
DTSTART:20251026T010000
END:STANDARD
BEGIN:DAYLIGHT
TZOFFSETFROM:+0100
TZOFFSETTO:+0200
TZNAME:CEST
DTSTART:20260329T010000
END:DAYLIGHT
BEGIN:STANDARD
TZOFFSETFROM:+0200
TZOFFSETTO:+0100
TZNAME:CET
DTSTART:20261025T010000
END:STANDARD
BEGIN:DAYLIGHT
TZOFFSETFROM:+0100
TZOFFSETTO:+0200
TZNAME:CEST
DTSTART:20270328T010000
END:DAYLIGHT
BEGIN:STANDARD
TZOFFSETFROM:+0200
TZOFFSETTO:+0100
TZNAME:CET
DTSTART:20271031T010000
END:STANDARD
END:VTIMEZONE
BEGIN:VEVENT
DTSTART;VALUE=DATE:20211007
DTEND;VALUE=DATE:20260421
DTSTAMP:20260423T231219
CREATED:20260420T122148Z
LAST-MODIFIED:20260420T122148Z
UID:23446-1633564800-1776729599@stephenkingfrance.fr
SUMMARY:[FR] "La Clé des Vents" (La Tour Sombre T.8) en livre audio chez Audible
DESCRIPTION:La Clé des Vents\, le 8e tome du cycle La Tour Sombre dont l’histoire se déroule entre les tomes 4 et 5\, sera publié en livre audio par Audible le 19 août 2021.. \nIl sera lu par Nicolas Justamon et durera 9h32. \n\nEn savoir plus
URL:https://stephenkingfrance.fr/agenda/fr-la-cle-des-vents-la-tour-sombre-t-8-en-livre-audio-chez-audible/
CATEGORIES:Livre
END:VEVENT
BEGIN:VEVENT
DTSTART;VALUE=DATE:20230201
DTEND;VALUE=DATE:20260421
DTSTAMP:20260423T231219
CREATED:20260420T115157Z
LAST-MODIFIED:20260420T115157Z
UID:23346-1675209600-1776729599@stephenkingfrance.fr
SUMMARY:[FR] Parution de "Après" en poche
DESCRIPTION:Le roman Après (Later) de Stephen King sera publié en poche\, aux éditions du Livre de Poche\, le 1ᵉʳ février 2023. \n\nPlus d’informations
URL:https://stephenkingfrance.fr/agenda/fr-parution-de-apres-en-poche/
CATEGORIES:Livre
END:VEVENT
BEGIN:VEVENT
DTSTART;VALUE=DATE:20230905
DTEND;VALUE=DATE:20230906
DTSTAMP:20260423T231219
CREATED:20260414T133446Z
LAST-MODIFIED:20260414T154813Z
UID:22879-1693872000-1693958399@stephenkingfrance.fr
SUMMARY:[ANG] Parution du nouveau roman “Holly”
DESCRIPTION:Holly\, le nouveau roman de Stephen King centré sur son personnage d’Holly Gibney\, est officiellement annoncé pour le 5 septembre (en anglais).
URL:https://stephenkingfrance.fr/agenda/ang-parution-du-nouveau-roman-holly/
CATEGORIES:Livre
END:VEVENT
BEGIN:VEVENT
DTSTART;VALUE=DATE:20230927
DTEND;VALUE=DATE:20230928
DTSTAMP:20260423T231219
CREATED:20260414T133447Z
LAST-MODIFIED:20260414T154503Z
UID:22881-1695772800-1695859199@stephenkingfrance.fr
SUMMARY:[FR] “Un tour sur le bolide” chez Albin Michel Jeunesse (collection
DESCRIPTION:Les éditions Albin Michel continuent de republier seules des nouvelles de Stephen King dans leur collection pour ados Wiz. La prochaine sortie sera Un tour sur le bolide\, annoncée pour le 27 septembre 2023. \n\nPlus d’informations
URL:https://stephenkingfrance.fr/agenda/fr-un-tour-sur-le-bolide-chez-albin-michel-jeunesse-collection/
CATEGORIES:Livre
END:VEVENT
BEGIN:VEVENT
DTSTART;VALUE=DATE:20230927
DTEND;VALUE=DATE:20230928
DTSTAMP:20260423T231219
CREATED:20260414T133501Z
LAST-MODIFIED:20260414T154410Z
UID:22882-1695772800-1695859199@stephenkingfrance.fr
SUMMARY:[FR] Livre audio du roman “Le Fléau”
DESCRIPTION:La version audiobook du roman Le Fléau de Stephen King sera disponible en français chez Audiolib à partir du 27 septembre 2023. \nComme sa version poche\, le livre audio sera proposé en deux volumes. \n\nPlus d’infos
URL:https://stephenkingfrance.fr/agenda/fr-livre-audio-du-roman-le-fleau/
CATEGORIES:Livre
END:VEVENT
END:VCALENDAR