BEGIN:VCALENDAR
VERSION:2.0
PRODID:-//Stephen King France - ECPv6.15.20//NONSGML v1.0//EN
CALSCALE:GREGORIAN
METHOD:PUBLISH
X-WR-CALNAME:Stephen King France
X-ORIGINAL-URL:https://stephenkingfrance.fr
X-WR-CALDESC:Évènements pour Stephen King France
REFRESH-INTERVAL;VALUE=DURATION:PT1H
X-Robots-Tag:noindex
X-PUBLISHED-TTL:PT1H
BEGIN:VTIMEZONE
TZID:Europe/Paris
BEGIN:DAYLIGHT
TZOFFSETFROM:+0100
TZOFFSETTO:+0200
TZNAME:CEST
DTSTART:20200329T010000
END:DAYLIGHT
BEGIN:STANDARD
TZOFFSETFROM:+0200
TZOFFSETTO:+0100
TZNAME:CET
DTSTART:20201025T010000
END:STANDARD
BEGIN:DAYLIGHT
TZOFFSETFROM:+0100
TZOFFSETTO:+0200
TZNAME:CEST
DTSTART:20210328T010000
END:DAYLIGHT
BEGIN:STANDARD
TZOFFSETFROM:+0200
TZOFFSETTO:+0100
TZNAME:CET
DTSTART:20211031T010000
END:STANDARD
BEGIN:DAYLIGHT
TZOFFSETFROM:+0100
TZOFFSETTO:+0200
TZNAME:CEST
DTSTART:20220327T010000
END:DAYLIGHT
BEGIN:STANDARD
TZOFFSETFROM:+0200
TZOFFSETTO:+0100
TZNAME:CET
DTSTART:20221030T010000
END:STANDARD
BEGIN:DAYLIGHT
TZOFFSETFROM:+0100
TZOFFSETTO:+0200
TZNAME:CEST
DTSTART:20230326T010000
END:DAYLIGHT
BEGIN:STANDARD
TZOFFSETFROM:+0200
TZOFFSETTO:+0100
TZNAME:CET
DTSTART:20231029T010000
END:STANDARD
BEGIN:DAYLIGHT
TZOFFSETFROM:+0100
TZOFFSETTO:+0200
TZNAME:CEST
DTSTART:20240331T010000
END:DAYLIGHT
BEGIN:STANDARD
TZOFFSETFROM:+0200
TZOFFSETTO:+0100
TZNAME:CET
DTSTART:20241027T010000
END:STANDARD
BEGIN:DAYLIGHT
TZOFFSETFROM:+0100
TZOFFSETTO:+0200
TZNAME:CEST
DTSTART:20250330T010000
END:DAYLIGHT
BEGIN:STANDARD
TZOFFSETFROM:+0200
TZOFFSETTO:+0100
TZNAME:CET
DTSTART:20251026T010000
END:STANDARD
BEGIN:DAYLIGHT
TZOFFSETFROM:+0100
TZOFFSETTO:+0200
TZNAME:CEST
DTSTART:20260329T010000
END:DAYLIGHT
BEGIN:STANDARD
TZOFFSETFROM:+0200
TZOFFSETTO:+0100
TZNAME:CET
DTSTART:20261025T010000
END:STANDARD
BEGIN:DAYLIGHT
TZOFFSETFROM:+0100
TZOFFSETTO:+0200
TZNAME:CEST
DTSTART:20270328T010000
END:DAYLIGHT
BEGIN:STANDARD
TZOFFSETFROM:+0200
TZOFFSETTO:+0100
TZNAME:CET
DTSTART:20271031T010000
END:STANDARD
END:VTIMEZONE
BEGIN:VEVENT
DTSTART;VALUE=DATE:20211007
DTEND;VALUE=DATE:20260421
DTSTAMP:20260424T190945
CREATED:20260420T122148Z
LAST-MODIFIED:20260420T122148Z
UID:23446-1633564800-1776729599@stephenkingfrance.fr
SUMMARY:[FR] "La Clé des Vents" (La Tour Sombre T.8) en livre audio chez Audible
DESCRIPTION:La Clé des Vents\, le 8e tome du cycle La Tour Sombre dont l’histoire se déroule entre les tomes 4 et 5\, sera publié en livre audio par Audible le 19 août 2021.. \nIl sera lu par Nicolas Justamon et durera 9h32. \n\nEn savoir plus
URL:https://stephenkingfrance.fr/agenda/fr-la-cle-des-vents-la-tour-sombre-t-8-en-livre-audio-chez-audible/
CATEGORIES:Livre
END:VEVENT
BEGIN:VEVENT
DTSTART;VALUE=DATE:20220504
DTEND;VALUE=DATE:20220505
DTSTAMP:20260424T190945
CREATED:20260420T121058Z
LAST-MODIFIED:20260420T121058Z
UID:23415-1651622400-1651708799@stephenkingfrance.fr
SUMMARY:[FR] "Si ça saigne" au Livre de Poche
DESCRIPTION:Publié en anglais sous le nom de If it bleeds le 21 avril 2020\, le recueil de 4 histoires sera publié en France en petit format le 4 mai 2022 sous le nom de Si ça saigne. \n\nPlus d’informations
URL:https://stephenkingfrance.fr/agenda/fr-si-ca-saigne-au-livre-de-poche/
CATEGORIES:Livre
END:VEVENT
BEGIN:VEVENT
DTSTART;VALUE=DATE:20220504
DTEND;VALUE=DATE:20220505
DTSTAMP:20260424T190945
CREATED:20260420T121118Z
LAST-MODIFIED:20260420T121118Z
UID:23417-1651622400-1651708799@stephenkingfrance.fr
SUMMARY:[FR] "Mile 81" publié chez Albin Michel dans leur collection Wiz
DESCRIPTION:Les éditions Albin Michel continuent de republier seules des nouvelles de Stephen King dans leur collection pour ados “Wiz”.\nLa prochaine sortie sera Mile 81\, le 4 mai 2022.\n\n\nInfos et pré-commande
URL:https://stephenkingfrance.fr/agenda/fr-mile-81-publie-chez-albin-michel-dans-leur-collection-wiz/
CATEGORIES:Livre
END:VEVENT
BEGIN:VEVENT
DTSTART;VALUE=DATE:20220525
DTEND;VALUE=DATE:20220526
DTSTAMP:20260424T190945
CREATED:20260420T120931Z
LAST-MODIFIED:20260420T120931Z
UID:23407-1653436800-1653523199@stephenkingfrance.fr
SUMMARY:[US] Parution de la nouvelle "Finn" en anglais
DESCRIPTION:Stephen King a annoncé la parution\, le 25 mai prochain\, d’une nouvelle histoire complètement inédite : Finn.\n\n\n\nFinn est une nouvelle “plutôt longue mais pas un roman”. Elle sera publiée le 25 mai en exclusivité\, en ebook et en format audio\, pour les abonnés de la plateforme américaine Scribd\, et à ce stade évidemment il n’y a que la version anglaise disponible. L’abonnement coûte 10\,99€ par mois et donne accès à des ebooks\, des audiobooks et des articles de magazine (en anglais toujours). Il est possible de se désinscrire à tout moment\, et de profiter d’une offre d’essai de 30 jours : reste à savoir si tout ça sera accessible depuis la France et si l’histoire de King sera disponible dans le cadre de l’offre d’essai. Si la plateforme semble accessible aux francophones\, rien ne nous dit que l’entièreté du catalogue étranger nous est accessible\, dès le jour de la parution des oeuvres qui plus est. Attendons donc de voir.\n\n\n\nSuivez Stephen King France sur les réseaux sociaux pour avoir les prochaines informations à propos de Finn !\n\n\n\nL’histoire de Finn se déroule en Irlande et raconte l’histoire d’un jeune homme\, malchanceux depuis sa naissance\, qui se retrouve pris dans une affaire d’erreur d’identité. L’histoire sombre\, drôle et troublante emmène Finn à travers des crises existentielles et psychologiques dans un monde où les intimidateurs et les fous bouleversent la vie des innocents.
URL:https://stephenkingfrance.fr/agenda/us-parution-de-la-nouvelle-finn-en-anglais/
CATEGORIES:Livre
END:VEVENT
END:VCALENDAR