BEGIN:VCALENDAR
VERSION:2.0
PRODID:-//Stephen King France - ECPv6.15.20//NONSGML v1.0//EN
CALSCALE:GREGORIAN
METHOD:PUBLISH
X-WR-CALNAME:Stephen King France
X-ORIGINAL-URL:https://stephenkingfrance.fr
X-WR-CALDESC:Évènements pour Stephen King France
REFRESH-INTERVAL;VALUE=DURATION:PT1H
X-Robots-Tag:noindex
X-PUBLISHED-TTL:PT1H
BEGIN:VTIMEZONE
TZID:Europe/Paris
BEGIN:DAYLIGHT
TZOFFSETFROM:+0100
TZOFFSETTO:+0200
TZNAME:CEST
DTSTART:20200329T010000
END:DAYLIGHT
BEGIN:STANDARD
TZOFFSETFROM:+0200
TZOFFSETTO:+0100
TZNAME:CET
DTSTART:20201025T010000
END:STANDARD
BEGIN:DAYLIGHT
TZOFFSETFROM:+0100
TZOFFSETTO:+0200
TZNAME:CEST
DTSTART:20210328T010000
END:DAYLIGHT
BEGIN:STANDARD
TZOFFSETFROM:+0200
TZOFFSETTO:+0100
TZNAME:CET
DTSTART:20211031T010000
END:STANDARD
BEGIN:DAYLIGHT
TZOFFSETFROM:+0100
TZOFFSETTO:+0200
TZNAME:CEST
DTSTART:20220327T010000
END:DAYLIGHT
BEGIN:STANDARD
TZOFFSETFROM:+0200
TZOFFSETTO:+0100
TZNAME:CET
DTSTART:20221030T010000
END:STANDARD
END:VTIMEZONE
BEGIN:VEVENT
DTSTART;VALUE=DATE:20210803
DTEND;VALUE=DATE:20210804
DTSTAMP:20260425T055745
CREATED:20260420T122517Z
LAST-MODIFIED:20260420T122517Z
UID:23463-1627948800-1628035199@stephenkingfrance.fr
SUMMARY:[USA] "Billy Summers" publié chez Scribner
DESCRIPTION:Le 3 août 2021\, Stephen King publiera en anglais chez Scribner un roman intitulé Billy Summers : “un tueur à gages et le meilleur du secteur. Mais il ne fera le travail que si la cible est vraiment un méchant. Et maintenant Billy veut arrêter mais d’abord\, il y a un dernier coup à faire. Billy est l’un des meilleurs tireurs d’élite au monde\, un vétéran décoré de la guerre en Irak\, un Houdini lorsqu’il s’agit de disparaître une fois le travail terminé. Alors qu’est-ce qui pourrait mal tourner ?”\n\n\n\nD’après l’éditeur Scribner\, le roman Billy Summers “est en partie une histoire de guerre\, en partie une lettre d’amour à la petite ville qu’est l’Amérique et aux gens qui y vivent. Il a l’un des duos les plus convaincants et surprenants des fictions de King\, qui a entrepris de venger les crimes d’un homme extraordinairement mauvais. Il s’agit d’amour\, de chance\, de destin et d’un héros complexe avec une dernière chance de rédemption.”
URL:https://stephenkingfrance.fr/agenda/usa-billy-summers-publie-chez-scribner/
CATEGORIES:Livre
END:VEVENT
BEGIN:VEVENT
DTSTART;VALUE=DATE:20210819
DTEND;VALUE=DATE:20210820
DTSTAMP:20260425T055745
CREATED:20260420T122456Z
LAST-MODIFIED:20260420T122456Z
UID:23461-1629331200-1629417599@stephenkingfrance.fr
SUMMARY:[FR] "La Tour Sombre" (La Tour Sombre T.7) en livre audio chez Audible
DESCRIPTION:La Tour Sombre\, le dernier tome du cycle du même nom\, sera publié en livre audio par Audible le 19 août 2021.. \nIl sera lu par Nicolas Justamon et durera 31h. \n\nEn savoir plus
URL:https://stephenkingfrance.fr/agenda/fr-la-tour-sombre-la-tour-sombre-t-7-en-livre-audio-chez-audible/
CATEGORIES:Livre
END:VEVENT
BEGIN:VEVENT
DTSTART;VALUE=DATE:20210825
DTEND;VALUE=DATE:20210826
DTSTAMP:20260425T055745
CREATED:20260420T122406Z
LAST-MODIFIED:20260420T122406Z
UID:23457-1629849600-1629935999@stephenkingfrance.fr
SUMMARY:[FR] "L'Institut" en poche au Livre de Poche
DESCRIPTION:C’est une question qui devenait récurrente et qui jusqu’ici restait sans réponse. Quand L’Institut de Stephen King sera-t-il publié en poche ?\n\n\n\nLa question a enfin une réponse qui devrait ravir beaucoup de monde : L’Institut en poche\, c’est prévu pour le 25 août 2021. De quoi terminer l’été en beauté !\n\n\n\nLe livre se pré-commande sur le site de la FNAC.
URL:https://stephenkingfrance.fr/agenda/fr-linstitut-en-poche-au-livre-de-poche/
CATEGORIES:Livre
END:VEVENT
BEGIN:VEVENT
DTSTART;VALUE=DATE:20210825
DTEND;VALUE=DATE:20210826
DTSTAMP:20260425T055745
CREATED:20260421T073438Z
LAST-MODIFIED:20260421T073438Z
UID:23455-1629849600-1629935999@stephenkingfrance.fr
SUMMARY:[FR] "L'Institut" en poche au Livre de Poche
DESCRIPTION:C’est une question qui devenait récurrente et qui jusqu’ici restait sans réponse. Quand L’Institut de Stephen King sera-t-il publié en poche ?\n\n\n\nLa question a enfin une réponse qui devrait ravir beaucoup de monde : L’Institut en poche\, c’est prévu pour le 25 août 2021. De quoi terminer l’été en beauté !\n\n\n\nLe livre se pré-commande sur le site de la FNAC.
URL:https://stephenkingfrance.fr/agenda/fr-linstitut-en-poche-au-livre-de-poche-2/
CATEGORIES:Livre
END:VEVENT
END:VCALENDAR