BEGIN:VCALENDAR
VERSION:2.0
PRODID:-//Stephen King France - ECPv6.15.20//NONSGML v1.0//EN
CALSCALE:GREGORIAN
METHOD:PUBLISH
X-WR-CALNAME:Stephen King France
X-ORIGINAL-URL:https://stephenkingfrance.fr
X-WR-CALDESC:Évènements pour Stephen King France
REFRESH-INTERVAL;VALUE=DURATION:PT1H
X-Robots-Tag:noindex
X-PUBLISHED-TTL:PT1H
BEGIN:VTIMEZONE
TZID:Europe/Paris
BEGIN:DAYLIGHT
TZOFFSETFROM:+0100
TZOFFSETTO:+0200
TZNAME:CEST
DTSTART:20200329T010000
END:DAYLIGHT
BEGIN:STANDARD
TZOFFSETFROM:+0200
TZOFFSETTO:+0100
TZNAME:CET
DTSTART:20201025T010000
END:STANDARD
BEGIN:DAYLIGHT
TZOFFSETFROM:+0100
TZOFFSETTO:+0200
TZNAME:CEST
DTSTART:20210328T010000
END:DAYLIGHT
BEGIN:STANDARD
TZOFFSETFROM:+0200
TZOFFSETTO:+0100
TZNAME:CET
DTSTART:20211031T010000
END:STANDARD
BEGIN:DAYLIGHT
TZOFFSETFROM:+0100
TZOFFSETTO:+0200
TZNAME:CEST
DTSTART:20220327T010000
END:DAYLIGHT
BEGIN:STANDARD
TZOFFSETFROM:+0200
TZOFFSETTO:+0100
TZNAME:CET
DTSTART:20221030T010000
END:STANDARD
END:VTIMEZONE
BEGIN:VEVENT
DTSTART;VALUE=DATE:20210302
DTEND;VALUE=DATE:20210303
DTSTAMP:20260425T123441
CREATED:20260421T074139Z
LAST-MODIFIED:20260421T074139Z
UID:23493-1614643200-1614729599@stephenkingfrance.fr
SUMMARY:[USA] Parution de Later\, nouveau livre de Stephen King
DESCRIPTION:Les éditions Hard Case Crime publieront un nouveau roman de Stephen King\, Later\, le 2 mars 2021. Il mélangera polar et fantastique !\n\n\n\nLater paraîtra en anglais aux Etats-Unis chez Hard case Crime le 2 mars 2021. Pas d’information sur l’éditeur au Royaume-Uni\, encore moins pour la France à ce stade. Rappelons que nous avons un livre de retard : If It Bleeds n’a pas encore de date de publications française.\n\n\n\nLe nombre de page et les liens de pré-commande pour la France ne sont pas encore disponibles.\n\n\n\n 	Informations et résumé
URL:https://stephenkingfrance.fr/agenda/usa-parution-de-later-nouveau-livre-de-stephen-king/
CATEGORIES:Livre
END:VEVENT
BEGIN:VEVENT
DTSTART;VALUE=DATE:20210317
DTEND;VALUE=DATE:20210318
DTSTAMP:20260425T123441
CREATED:20260421T074119Z
LAST-MODIFIED:20260421T074119Z
UID:23491-1615939200-1616025599@stephenkingfrance.fr
SUMMARY:[FR] "Si ça saigne" en livre audio
DESCRIPTION:La version audiobook du recueil de 4 novellas Si ça saigne sera disponible en français chez Audiolib dès le 17 mars 2021. \n\nPré-commander Si ça saigne chez Albin Michel : sur la FNAC / sur Amazon\nPré-commander Si ça saigne chez Audiolib : sur la FNAC / sur Amazon\nAcheter If It Bleeds en vo : version américaine sur Amazon / version anglaise sur Amazon
URL:https://stephenkingfrance.fr/agenda/fr-si-ca-saigne-en-livre-audio/
CATEGORIES:Livre
END:VEVENT
BEGIN:VEVENT
DTSTART;VALUE=DATE:20210331
DTEND;VALUE=DATE:20210401
DTSTAMP:20260425T123441
CREATED:20260421T074056Z
LAST-MODIFIED:20260421T074056Z
UID:23489-1617148800-1617235199@stephenkingfrance.fr
SUMMARY:[FR] Les Langoliers chez Albin Michel Jeunesse (Wiz)
DESCRIPTION:Albin Michel reprend des histoires (romans courts et longues nouvelles) de Stephen King pour sa collection jeunesse : “Wiz”. La première publication de l’année sera celle des Langoliers\, le 31 mars 2021. L’image de couverture n’est pas non plus disponible mais elle devrait être proche de l’aperçu que je vous ai mis en début d’article. \n\n 	Pré-commander Les Langoliers : Amazon / FNAC\n\n 
URL:https://stephenkingfrance.fr/agenda/fr-les-langoliers-chez-albin-michel-jeunesse-wiz/
CATEGORIES:Livre
END:VEVENT
END:VCALENDAR