BEGIN:VCALENDAR
VERSION:2.0
PRODID:-//Stephen King France - ECPv6.15.20//NONSGML v1.0//EN
CALSCALE:GREGORIAN
METHOD:PUBLISH
X-WR-CALNAME:Stephen King France
X-ORIGINAL-URL:https://stephenkingfrance.fr
X-WR-CALDESC:Évènements pour Stephen King France
REFRESH-INTERVAL;VALUE=DURATION:PT1H
X-Robots-Tag:noindex
X-PUBLISHED-TTL:PT1H
BEGIN:VTIMEZONE
TZID:Europe/Paris
BEGIN:DAYLIGHT
TZOFFSETFROM:+0100
TZOFFSETTO:+0200
TZNAME:CEST
DTSTART:20190331T010000
END:DAYLIGHT
BEGIN:STANDARD
TZOFFSETFROM:+0200
TZOFFSETTO:+0100
TZNAME:CET
DTSTART:20191027T010000
END:STANDARD
BEGIN:DAYLIGHT
TZOFFSETFROM:+0100
TZOFFSETTO:+0200
TZNAME:CEST
DTSTART:20200329T010000
END:DAYLIGHT
BEGIN:STANDARD
TZOFFSETFROM:+0200
TZOFFSETTO:+0100
TZNAME:CET
DTSTART:20201025T010000
END:STANDARD
BEGIN:DAYLIGHT
TZOFFSETFROM:+0100
TZOFFSETTO:+0200
TZNAME:CEST
DTSTART:20210328T010000
END:DAYLIGHT
BEGIN:STANDARD
TZOFFSETFROM:+0200
TZOFFSETTO:+0100
TZNAME:CET
DTSTART:20211031T010000
END:STANDARD
END:VTIMEZONE
BEGIN:VEVENT
DTSTART;VALUE=DATE:20200902
DTEND;VALUE=DATE:20200903
DTSTAMP:20260425T202235
CREATED:20260421T075154Z
LAST-MODIFIED:20260421T075154Z
UID:23522-1599004800-1599091199@stephenkingfrance.fr
SUMMARY:[FR] "Anatomie de l'Horreur" au Livre de Poche
DESCRIPTION:En août 2018\, les éditions Albin Michel ont republié l’essai Anatomie de l’Horreur de Stephen King avec deux préfaces inédites\, soit une vingtaine de pages\, et une traduction révisée en plus des notes de Jean-Pierre Croquet.\n\n\n\nAprès la version livre audio\, le Livre de Poche publiera la version petit format le 5 février 2020. Mise à jour du 24 janvier : la sortie du livre est reportée “à une date ultérieure”.\n\nMise à jour du 11 juin : Anatomie de l’Horreur en poche\, ce sera pour le 2 septembre !\n\n\n\n 	Plus d’infos
URL:https://stephenkingfrance.fr/agenda/fr-anatomie-de-lhorreur-au-livre-de-poche/
CATEGORIES:Livre
END:VEVENT
BEGIN:VEVENT
DTSTART;VALUE=DATE:20200923
DTEND;VALUE=DATE:20200924
DTSTAMP:20260425T202235
CREATED:20260421T075131Z
LAST-MODIFIED:20260421T075131Z
UID:23520-1600819200-1600905599@stephenkingfrance.fr
SUMMARY:[FR] "Le Carrousel Infernal" en français aux éditions JC Lattès
DESCRIPTION:Le 23 septembre 2020\, les éditions JC Lattès publieront Le Carrousel Infernal\, la traduction du recueil Full Throttle de Joe Hill qui contient deux nouvelles co-écrites avec son père Stephen King : Plein Gaz et Dans les Hautes Herbes. \n\nInformations et pré-commande
URL:https://stephenkingfrance.fr/agenda/fr-le-carrousel-infernal-en-francais-aux-editions-jc-lattes/
CATEGORIES:Livre
END:VEVENT
END:VCALENDAR