BEGIN:VCALENDAR
VERSION:2.0
PRODID:-//Stephen King France - ECPv6.15.20//NONSGML v1.0//EN
CALSCALE:GREGORIAN
METHOD:PUBLISH
X-WR-CALNAME:Stephen King France
X-ORIGINAL-URL:https://stephenkingfrance.fr
X-WR-CALDESC:Évènements pour Stephen King France
REFRESH-INTERVAL;VALUE=DURATION:PT1H
X-Robots-Tag:noindex
X-PUBLISHED-TTL:PT1H
BEGIN:VTIMEZONE
TZID:Europe/Paris
BEGIN:DAYLIGHT
TZOFFSETFROM:+0100
TZOFFSETTO:+0200
TZNAME:CEST
DTSTART:20190331T010000
END:DAYLIGHT
BEGIN:STANDARD
TZOFFSETFROM:+0200
TZOFFSETTO:+0100
TZNAME:CET
DTSTART:20191027T010000
END:STANDARD
BEGIN:DAYLIGHT
TZOFFSETFROM:+0100
TZOFFSETTO:+0200
TZNAME:CEST
DTSTART:20200329T010000
END:DAYLIGHT
BEGIN:STANDARD
TZOFFSETFROM:+0200
TZOFFSETTO:+0100
TZNAME:CET
DTSTART:20201025T010000
END:STANDARD
BEGIN:DAYLIGHT
TZOFFSETFROM:+0100
TZOFFSETTO:+0200
TZNAME:CEST
DTSTART:20210328T010000
END:DAYLIGHT
BEGIN:STANDARD
TZOFFSETFROM:+0200
TZOFFSETTO:+0100
TZNAME:CET
DTSTART:20211031T010000
END:STANDARD
END:VTIMEZONE
BEGIN:VEVENT
DTSTART;VALUE=DATE:20200603
DTEND;VALUE=DATE:20200604
DTSTAMP:20260426T002237
CREATED:20200521T075631Z
LAST-MODIFIED:20260425T200428Z
UID:23538-1591142400-1591228799@stephenkingfrance.fr
SUMMARY:[FR] La novella "Le Molosse Surgi du Soleil" (The Sun Dog) par Albin Michel
DESCRIPTION:Albin Michel a décidé de republier des histoires de Stephen King dans sa collection pour adolescent·e·s. Après Brume et Le Corps\, Le Molosse Surgi du Soleil (The Sun Dog) sera publié le 25 mars 2020. En raison de la crise sanitaire en cours\, la sortie est repoussée au 3 juin 2020.   \n\nA la rentrée 2019\, Albin Michel avait décidé de publier seules deux novellas (des grosses nouvelles) de Stephen King pour leurs lectorat adolescent : Brume et Le Corps. \n\n\n\nLe succès semble avoir été au rendez-vous puisqu’ils réitéreront le 25 mars 2020 en publiant seule la novella Le Molosse Surgi du Soleil\, à l’origine parue dans le recueil Minuit 4 en 1992 en France. \n\n\n\nAucun visuel n’a encore été dévoilé mais le livre est déjà en pré-commande sur la FNAC pour moins de 15€. \n\n\n\nL’histoire de Le Molosse Surgi du Soleil se déroule à Castle Rock. Le jeune Kevin Delevan\, 15 ans\, s’est vu offrir pour son anniversaire l’appareil photo de ses rêves mais il s’aperçoit que celui-ci ne prend pas les photos qu’il voudrait mais reproduit toujours la même image\, celle d’un chien terrifiant qui se rapproche de plus en plus.
URL:https://stephenkingfrance.fr/agenda/fr-la-novella-le-molosse-surgi-du-soleil-the-sun-dog-par-albin-michel/
CATEGORIES:Livre
END:VEVENT
BEGIN:VEVENT
DTSTART;VALUE=DATE:20200610
DTEND;VALUE=DATE:20200611
DTSTAMP:20260426T002237
CREATED:20200521T075529Z
LAST-MODIFIED:20260425T200245Z
UID:23532-1591747200-1591833599@stephenkingfrance.fr
SUMMARY:[FR] "Classe Tous Risques" publié en France
DESCRIPTION:Le 10 juin 2020\, le Livre de Poche Imaginaire publiera pour la première fois en français Classe Tous Risques\, la traduction de Flight or Fright\, l’anthologie de Bev Vincent et Stephen King sur la peur en avion. \nC’est une bonne nouvelle car ces anthologies sont rarement traduites ! Stephen King et Bev Vincent ont collaboré pour Classe Tous Risques (Flight or Fright) qui est paru en version originale en septembre 2018. Ils ont co-édité cette anthologie qui contient notamment une nouvelle inédite de Stephen King et une autre d’un de ses fils\, Joe Hill. \nClasse Tous Risques regroupe des fictions inédites\, textes classiques ou poèmes qui ont tous pour thème les catastrophes en avion. Stephen King déteste voler\, il a peur en avion et a donc décidé de nous partager sa peur… \nClasse Tous Risques sera publié au Livre de Poche le 10 juin 2020. La couverture n’a pas encore été dévoilée mais il est déjà en pré-commande sur le site de la FNAC ou sur Amazon !
URL:https://stephenkingfrance.fr/agenda/fr-classe-tous-risques-publie-en-france/
CATEGORIES:Livre
END:VEVENT
BEGIN:VEVENT
DTSTART;VALUE=DATE:20200610
DTEND;VALUE=DATE:20200611
DTSTAMP:20260426T002237
CREATED:20200521T075549Z
LAST-MODIFIED:20260425T200241Z
UID:23534-1591747200-1591833599@stephenkingfrance.fr
SUMMARY:[FR] Les Yeux du Dragon chez Flammarion
DESCRIPTION:Le 10 juin 2020\, Flammarion Jeunesse ré-édite Les Yeux du Dragon\, le conte pour enfants de Stephen King qui se passe dans l’univers de La Tour Sombre. \n\nEn 2016\, les éditions Flammarion Jeunesse avaient publié en broché Les Yeux du Dragon après en avoir racheté les droits à Albin Michel. Ils préparent une nouvelles édition qui sera publiée le 10 juin 2020. \n\n\n\nOn ne sait pas encore s’il aura la belle couverture des éditions précédentes mais il est déjà en pré-commande sur la FNAC. \n\n\n\nIntimement lié à La Tour Sombre\, Les Yeux du Dragon en a adopté son univers de fantasy. Pour autant\, il est bien plus léger que les Stephen King que nous sommes habitués à lire\, car il abuse volontairement des ficelles des contes pour enfants. Il a en effet écrit Les Yeux du Dragon pour sa fille quand elle avait 13 ans\, triste de constater qu’elle n’avait jamais lu aucun livre de son père\, peu intéressée par les créatures d’horreur qu’il créait. Il a ainsi donné une fabuleuse histoire de courage\, de magie et de chevalerie que l’on prend plaisir à lire à tout âge\, qui a été publiée pour la première fois en anglais en 1984. \n\n\n\nUne série adaptée des Yeux du Dragon est en cours de développement par Hulu.
URL:https://stephenkingfrance.fr/agenda/fr-les-yeux-du-dragon-chez-flammarion/
CATEGORIES:Livre
END:VEVENT
END:VCALENDAR