BEGIN:VCALENDAR
VERSION:2.0
PRODID:-//Stephen King France - ECPv6.15.20//NONSGML v1.0//EN
CALSCALE:GREGORIAN
METHOD:PUBLISH
X-ORIGINAL-URL:https://stephenkingfrance.fr
X-WR-CALDESC:Évènements pour Stephen King France
REFRESH-INTERVAL;VALUE=DURATION:PT1H
X-Robots-Tag:noindex
X-PUBLISHED-TTL:PT1H
BEGIN:VTIMEZONE
TZID:Europe/Paris
BEGIN:DAYLIGHT
TZOFFSETFROM:+0100
TZOFFSETTO:+0200
TZNAME:CEST
DTSTART:20190331T010000
END:DAYLIGHT
BEGIN:STANDARD
TZOFFSETFROM:+0200
TZOFFSETTO:+0100
TZNAME:CET
DTSTART:20191027T010000
END:STANDARD
BEGIN:DAYLIGHT
TZOFFSETFROM:+0100
TZOFFSETTO:+0200
TZNAME:CEST
DTSTART:20200329T010000
END:DAYLIGHT
BEGIN:STANDARD
TZOFFSETFROM:+0200
TZOFFSETTO:+0100
TZNAME:CET
DTSTART:20201025T010000
END:STANDARD
BEGIN:DAYLIGHT
TZOFFSETFROM:+0100
TZOFFSETTO:+0200
TZNAME:CEST
DTSTART:20210328T010000
END:DAYLIGHT
BEGIN:STANDARD
TZOFFSETFROM:+0200
TZOFFSETTO:+0100
TZNAME:CET
DTSTART:20211031T010000
END:STANDARD
END:VTIMEZONE
BEGIN:VEVENT
DTSTART;VALUE=DATE:20200219
DTEND;VALUE=DATE:20200220
DTSTAMP:20260426T051734
CREATED:20200121T090616Z
LAST-MODIFIED:20260425T200528Z
UID:23562-1582070400-1582156799@stephenkingfrance.fr
SUMMARY:[FR] "L'Outsider" en poche
DESCRIPTION:L’Outsider de Stephen King a été publié en France chez Albin Michel le 30 janvier 2019. Il sortira en format poche au Livre de Poche le 19 février 2020. \nL’Outsider raconte l’histoire d’un enfant de 11 ans retrouvé dans le parc d’une ville\, tabassé à mort. Les empreintes (et plus tard\, l’ADN) sont sans conteste celles du coach de baseball le plus populaire de la ville\, Terry Maitland\, un homme à la réputation irréprochable\, avec une femme et deux filles. Le détective Ralph Anderson\, dont le fils a été entraîné par Maitland\, ordonne une arrestation immédiate et publique. Il est emmené en prison\, clamant son innocence. Maitland a un alibi infaillible\, avec des preuves enregistrées qu’il était dans une autre ville quand le crime a été commis. Mais ça ne le sauve pas pour autant. \nL’Outsider de Stephen King sera publié au Livre de Poche le 29 janvier 2020\, pré-commandez-le sur la FNAC.
URL:https://stephenkingfrance.fr/agenda/fr-loutsider-en-poche/
CATEGORIES:Livre
END:VEVENT
END:VCALENDAR