BEGIN:VCALENDAR
VERSION:2.0
PRODID:-//Stephen King France - ECPv6.15.20//NONSGML v1.0//EN
CALSCALE:GREGORIAN
METHOD:PUBLISH
X-WR-CALNAME:Stephen King France
X-ORIGINAL-URL:https://stephenkingfrance.fr
X-WR-CALDESC:Évènements pour Stephen King France
REFRESH-INTERVAL;VALUE=DURATION:PT1H
X-Robots-Tag:noindex
X-PUBLISHED-TTL:PT1H
BEGIN:VTIMEZONE
TZID:Europe/Paris
BEGIN:DAYLIGHT
TZOFFSETFROM:+0100
TZOFFSETTO:+0200
TZNAME:CEST
DTSTART:20240331T010000
END:DAYLIGHT
BEGIN:STANDARD
TZOFFSETFROM:+0200
TZOFFSETTO:+0100
TZNAME:CET
DTSTART:20241027T010000
END:STANDARD
BEGIN:DAYLIGHT
TZOFFSETFROM:+0100
TZOFFSETTO:+0200
TZNAME:CEST
DTSTART:20250330T010000
END:DAYLIGHT
BEGIN:STANDARD
TZOFFSETFROM:+0200
TZOFFSETTO:+0100
TZNAME:CET
DTSTART:20251026T010000
END:STANDARD
BEGIN:DAYLIGHT
TZOFFSETFROM:+0100
TZOFFSETTO:+0200
TZNAME:CEST
DTSTART:20260329T010000
END:DAYLIGHT
BEGIN:STANDARD
TZOFFSETFROM:+0200
TZOFFSETTO:+0100
TZNAME:CET
DTSTART:20261025T010000
END:STANDARD
END:VTIMEZONE
BEGIN:VEVENT
DTSTART;VALUE=DATE:20250225
DTEND;VALUE=DATE:20250226
DTSTAMP:20260421T201522
CREATED:20260414T133633Z
LAST-MODIFIED:20260414T152552Z
UID:22914-1740441600-1740527999@stephenkingfrance.fr
SUMMARY:[US] Blu-ray et DVD 4K UHD de “Graveyard Shift”
DESCRIPTION:Kino Lorber sortira le 25 février prochain un Blu-ray / DVD 4K UHD du film “Graveyard Shift”. \nDisque 1 – 4K UHD :\n* Restauration 4K à partir du négatif original (nouveau)\n* Présentation Dolby Vision/HDR (nouveau)\n* Audio surround 5.1 et audio 2.0 sans perte\n* Commentaire audio des historiens du cinéma Howard S. Berger et Marc Edward Heuck (nouveau) \nDisque 2 – Blu-ray :\n* Restauration 4K à partir du négatif original (nouveau)\n* Surround 5.1 et audio 2.0 sans perte\n* Commentaire audio des historiens du cinéma Howard S. Berger et Marc Edward Heuck (nouveau)\n* Entretien avec le réalisateur Ralph S. Singleton\n* Entretien avec l’acteur Stephen Macht\n* Entretien avec l’actrice Kelly Wolf\n* Entretien avec l’acteur Robert Alan Beuth\n* Bande-annonce cinéma \nLa pochette est réversible comme vous pouvez le voir sur l’image ! \n“Graveyard Shift” a deux noms en français : La Créature du Cimetière / Rats. Ce film de 1990 adapte la nouvelle Poste de Nuit (Graveyard Shift en version originale)\, publiée en France dans le recueil Danse Macabre en 1980\, et la première fois en vo\nen 1970 dans le magazine Cavalier.
URL:https://stephenkingfrance.fr/agenda/us-blu-ray-et-dvd-4k-uhd-de-graveyard-shift/
CATEGORIES:Blu-ray - DVD
END:VEVENT
END:VCALENDAR