BEGIN:VCALENDAR
VERSION:2.0
PRODID:-//Stephen King France - ECPv6.15.20//NONSGML v1.0//EN
CALSCALE:GREGORIAN
METHOD:PUBLISH
X-WR-CALNAME:Stephen King France
X-ORIGINAL-URL:https://stephenkingfrance.fr
X-WR-CALDESC:Évènements pour Stephen King France
REFRESH-INTERVAL;VALUE=DURATION:PT1H
X-Robots-Tag:noindex
X-PUBLISHED-TTL:PT1H
BEGIN:VTIMEZONE
TZID:Europe/Paris
BEGIN:DAYLIGHT
TZOFFSETFROM:+0100
TZOFFSETTO:+0200
TZNAME:CEST
DTSTART:20230326T010000
END:DAYLIGHT
BEGIN:STANDARD
TZOFFSETFROM:+0200
TZOFFSETTO:+0100
TZNAME:CET
DTSTART:20231029T010000
END:STANDARD
BEGIN:DAYLIGHT
TZOFFSETFROM:+0100
TZOFFSETTO:+0200
TZNAME:CEST
DTSTART:20240331T010000
END:DAYLIGHT
BEGIN:STANDARD
TZOFFSETFROM:+0200
TZOFFSETTO:+0100
TZNAME:CET
DTSTART:20241027T010000
END:STANDARD
BEGIN:DAYLIGHT
TZOFFSETFROM:+0100
TZOFFSETTO:+0200
TZNAME:CEST
DTSTART:20250330T010000
END:DAYLIGHT
BEGIN:STANDARD
TZOFFSETFROM:+0200
TZOFFSETTO:+0100
TZNAME:CET
DTSTART:20251026T010000
END:STANDARD
END:VTIMEZONE
BEGIN:VEVENT
DTSTART;VALUE=DATE:20240312
DTEND;VALUE=DATE:20240313
DTSTAMP:20260423T230426
CREATED:20260414T133518Z
LAST-MODIFIED:20260414T153957Z
UID:22891-1710201600-1710287999@stephenkingfrance.fr
SUMMARY:[US] La mini-série “The Shining” en Blu-Ray 4k
DESCRIPTION:Écrite par Stephen King et réalisé par Mick Garris\, la minisérie Shining (1997) d’une durée de 4h33 arrive aux États-Unis en Blu-Ray 4k. \nScream Factory a annoncé une toute nouvelle édition spéciale de deux disques de la minisérie\, qui sortira le 12 mars 2024 et est déjà en précommande. \n\nEn savoir plus
URL:https://stephenkingfrance.fr/agenda/us-la-mini-serie-the-shining-en-blu-ray-4k/
CATEGORIES:Blu-ray - DVD
END:VEVENT
BEGIN:VEVENT
DTSTART;VALUE=DATE:20240319
DTEND;VALUE=DATE:20240320
DTSTAMP:20260423T230426
CREATED:20260414T133531Z
LAST-MODIFIED:20260414T153943Z
UID:22892-1710806400-1710892799@stephenkingfrance.fr
SUMMARY:[US] “Carrie” (2013) en Blu-ray 4K chez Scream Factory
DESCRIPTION:Le 19 mars 2024\, Scream Factory sortira un Blu-Ray 4k Ultra HD de Carrie\, le film de Kimberley Peirce sorti en 2013. \n\nInfos et précommande
URL:https://stephenkingfrance.fr/agenda/us-carrie-2013-en-blu-ray-4k-chez-scream-factory/
CATEGORIES:Blu-ray - DVD
END:VEVENT
END:VCALENDAR