BEGIN:VCALENDAR
VERSION:2.0
PRODID:-//Stephen King France - ECPv6.15.20//NONSGML v1.0//EN
CALSCALE:GREGORIAN
METHOD:PUBLISH
X-WR-CALNAME:Stephen King France
X-ORIGINAL-URL:https://stephenkingfrance.fr
X-WR-CALDESC:Évènements pour Stephen King France
REFRESH-INTERVAL;VALUE=DURATION:PT1H
X-Robots-Tag:noindex
X-PUBLISHED-TTL:PT1H
BEGIN:VTIMEZONE
TZID:Europe/Paris
BEGIN:DAYLIGHT
TZOFFSETFROM:+0100
TZOFFSETTO:+0200
TZNAME:CEST
DTSTART:20210328T010000
END:DAYLIGHT
BEGIN:STANDARD
TZOFFSETFROM:+0200
TZOFFSETTO:+0100
TZNAME:CET
DTSTART:20211031T010000
END:STANDARD
BEGIN:DAYLIGHT
TZOFFSETFROM:+0100
TZOFFSETTO:+0200
TZNAME:CEST
DTSTART:20220327T010000
END:DAYLIGHT
BEGIN:STANDARD
TZOFFSETFROM:+0200
TZOFFSETTO:+0100
TZNAME:CET
DTSTART:20221030T010000
END:STANDARD
BEGIN:DAYLIGHT
TZOFFSETFROM:+0100
TZOFFSETTO:+0200
TZNAME:CEST
DTSTART:20230326T010000
END:DAYLIGHT
BEGIN:STANDARD
TZOFFSETFROM:+0200
TZOFFSETTO:+0100
TZNAME:CET
DTSTART:20231029T010000
END:STANDARD
END:VTIMEZONE
BEGIN:VEVENT
DTSTART;VALUE=DATE:20220330
DTEND;VALUE=DATE:20220331
DTSTAMP:20260425T051228
CREATED:20260420T121139Z
LAST-MODIFIED:20260420T121139Z
UID:23419-1648598400-1648684799@stephenkingfrance.fr
SUMMARY:[FR] La saison 2 de "Creepshow" en DVD et Blu-Ray en France
DESCRIPTION:ESC Distribution\, l’éditeur français de Blu-Ray et DVD sortira la saison 2 de Creepshow en français le 30 mars 2022. \n\nPlus d’informations
URL:https://stephenkingfrance.fr/agenda/fr-la-saison-2-de-creepshow-en-dvd-et-blu-ray-en-france/
CATEGORIES:Blu-ray - DVD
END:VEVENT
BEGIN:VEVENT
DTSTART;VALUE=DATE:20220330
DTEND;VALUE=DATE:20220331
DTSTAMP:20260425T051228
CREATED:20260420T121156Z
LAST-MODIFIED:20260420T121156Z
UID:23421-1648598400-1648684799@stephenkingfrance.fr
SUMMARY:[FR] "La Ligne Verte" en coffret collector 4K HD avec Blu-Ray
DESCRIPTION:Le film “La Ligne Verte” (adapté de Stephen King par Frank Darabont) revient fin mars dans une version 4K HD collector ! \n\nDétails et pré-commande 
URL:https://stephenkingfrance.fr/agenda/fr-la-ligne-verte-en-coffret-collector-4k-hd-avec-blu-ray/
CATEGORIES:Blu-ray - DVD
END:VEVENT
END:VCALENDAR