BEGIN:VCALENDAR
VERSION:2.0
PRODID:-//Stephen King France - ECPv6.15.20//NONSGML v1.0//EN
CALSCALE:GREGORIAN
METHOD:PUBLISH
X-WR-CALNAME:Stephen King France
X-ORIGINAL-URL:https://stephenkingfrance.fr
X-WR-CALDESC:Évènements pour Stephen King France
REFRESH-INTERVAL;VALUE=DURATION:PT1H
X-Robots-Tag:noindex
X-PUBLISHED-TTL:PT1H
BEGIN:VTIMEZONE
TZID:Europe/Paris
BEGIN:DAYLIGHT
TZOFFSETFROM:+0100
TZOFFSETTO:+0200
TZNAME:CEST
DTSTART:20190331T010000
END:DAYLIGHT
BEGIN:STANDARD
TZOFFSETFROM:+0200
TZOFFSETTO:+0100
TZNAME:CET
DTSTART:20191027T010000
END:STANDARD
BEGIN:DAYLIGHT
TZOFFSETFROM:+0100
TZOFFSETTO:+0200
TZNAME:CEST
DTSTART:20200329T010000
END:DAYLIGHT
BEGIN:STANDARD
TZOFFSETFROM:+0200
TZOFFSETTO:+0100
TZNAME:CET
DTSTART:20201025T010000
END:STANDARD
BEGIN:DAYLIGHT
TZOFFSETFROM:+0100
TZOFFSETTO:+0200
TZNAME:CEST
DTSTART:20210328T010000
END:DAYLIGHT
BEGIN:STANDARD
TZOFFSETFROM:+0200
TZOFFSETTO:+0100
TZNAME:CET
DTSTART:20211031T010000
END:STANDARD
END:VTIMEZONE
BEGIN:VEVENT
DTSTART;VALUE=DATE:20201205
DTEND;VALUE=DATE:20201206
DTSTAMP:20260425T235344
CREATED:20201121T084638Z
LAST-MODIFIED:20260425T200139Z
UID:23506-1607126400-1607212799@stephenkingfrance.fr
SUMMARY:[FR] Sac d'Os/La Maison sur le Lac en DVD et Blu-Ray français
DESCRIPTION:Condor Entertainment\, société de distribution et d’édition de films\, sortira le 5 décembre en Blu-Ray et DVD français l’adaptation de Mick Garris du roman Sac d’Os de Stephen King. \nPlus d’informations \nPré-commandez sur Amazon ou sur la FNAC. \n 
URL:https://stephenkingfrance.fr/agenda/fr-sac-dos-la-maison-sur-le-lac-en-dvd-et-blu-ray-francais/
CATEGORIES:Blu-ray - DVD
END:VEVENT
END:VCALENDAR