BEGIN:VCALENDAR
VERSION:2.0
PRODID:-//Stephen King France - ECPv6.15.20//NONSGML v1.0//EN
CALSCALE:GREGORIAN
METHOD:PUBLISH
X-ORIGINAL-URL:https://stephenkingfrance.fr
X-WR-CALDESC:Évènements pour Stephen King France
REFRESH-INTERVAL;VALUE=DURATION:PT1H
X-Robots-Tag:noindex
X-PUBLISHED-TTL:PT1H
BEGIN:VTIMEZONE
TZID:Europe/Paris
BEGIN:DAYLIGHT
TZOFFSETFROM:+0100
TZOFFSETTO:+0200
TZNAME:CEST
DTSTART:20190331T010000
END:DAYLIGHT
BEGIN:STANDARD
TZOFFSETFROM:+0200
TZOFFSETTO:+0100
TZNAME:CET
DTSTART:20191027T010000
END:STANDARD
BEGIN:DAYLIGHT
TZOFFSETFROM:+0100
TZOFFSETTO:+0200
TZNAME:CEST
DTSTART:20200329T010000
END:DAYLIGHT
BEGIN:STANDARD
TZOFFSETFROM:+0200
TZOFFSETTO:+0100
TZNAME:CET
DTSTART:20201025T010000
END:STANDARD
BEGIN:DAYLIGHT
TZOFFSETFROM:+0100
TZOFFSETTO:+0200
TZNAME:CEST
DTSTART:20210328T010000
END:DAYLIGHT
BEGIN:STANDARD
TZOFFSETFROM:+0200
TZOFFSETTO:+0100
TZNAME:CET
DTSTART:20211031T010000
END:STANDARD
END:VTIMEZONE
BEGIN:VEVENT
DTSTART;VALUE=DATE:20201028
DTEND;VALUE=DATE:20201029
DTSTAMP:20260426T021431
CREATED:20200921T074924Z
LAST-MODIFIED:20260425T200155Z
UID:23510-1603843200-1603929599@stephenkingfrance.fr
SUMMARY:[FR] "Ça" Chapitres 1 & 2 en Steelbook Collector 4K Ultra HD Blu-ray
DESCRIPTION:Warner Home Video sortira le 28 octobre 2020 un Steelbook 4k collector qui réunira les deux chapitres de Ça\, par Andrès et Barbara Muschietti\, sortis en 2017 et en 2019. \nSi le visuel n’a pas encore été dévoilé\, le Steelbook des deux films Ça se pré-commande déjà sur Amazon ou sur la FNAC.
URL:https://stephenkingfrance.fr/agenda/fr-ca-chapitres-1-2-en-steelbook-collector-4k-ultra-hd-blu-ray/
CATEGORIES:Blu-ray - DVD
END:VEVENT
END:VCALENDAR