BEGIN:VCALENDAR
VERSION:2.0
PRODID:-//Stephen King France - ECPv6.15.20//NONSGML v1.0//EN
CALSCALE:GREGORIAN
METHOD:PUBLISH
X-WR-CALNAME:Stephen King France
X-ORIGINAL-URL:https://stephenkingfrance.fr
X-WR-CALDESC:Évènements pour Stephen King France
REFRESH-INTERVAL;VALUE=DURATION:PT1H
X-Robots-Tag:noindex
X-PUBLISHED-TTL:PT1H
BEGIN:VTIMEZONE
TZID:Europe/Paris
BEGIN:DAYLIGHT
TZOFFSETFROM:+0100
TZOFFSETTO:+0200
TZNAME:CEST
DTSTART:20190331T010000
END:DAYLIGHT
BEGIN:STANDARD
TZOFFSETFROM:+0200
TZOFFSETTO:+0100
TZNAME:CET
DTSTART:20191027T010000
END:STANDARD
BEGIN:DAYLIGHT
TZOFFSETFROM:+0100
TZOFFSETTO:+0200
TZNAME:CEST
DTSTART:20200329T010000
END:DAYLIGHT
BEGIN:STANDARD
TZOFFSETFROM:+0200
TZOFFSETTO:+0100
TZNAME:CET
DTSTART:20201025T010000
END:STANDARD
BEGIN:DAYLIGHT
TZOFFSETFROM:+0100
TZOFFSETTO:+0200
TZNAME:CEST
DTSTART:20210328T010000
END:DAYLIGHT
BEGIN:STANDARD
TZOFFSETFROM:+0200
TZOFFSETTO:+0100
TZNAME:CET
DTSTART:20211031T010000
END:STANDARD
END:VTIMEZONE
BEGIN:VEVENT
DTSTART;VALUE=DATE:20200901
DTEND;VALUE=DATE:20200902
DTSTAMP:20260426T033507
CREATED:20200821T075330Z
LAST-MODIFIED:20260425T200217Z
UID:23524-1598918400-1599004799@stephenkingfrance.fr
SUMMARY:[FR] The Outsider s01 en DVD et Blu-Ray
DESCRIPTION:Alors qu’aux Etats-Unis\, les DVD et Blu-Ray de la saison 1 de The Outsider seront disponibles le 1er juin\, en France on prend son temps : The Outsider s01 sortira en DVD et Blu-Ray le 1er septembre 2020 (d’après Amazon\, le 30 septembre d’après la FNAC). \nDétails et pré-commande
URL:https://stephenkingfrance.fr/agenda/fr-the-outsider-s01-en-dvd-et-blu-ray/
CATEGORIES:Blu-ray - DVD
END:VEVENT
END:VCALENDAR