BEGIN:VCALENDAR
VERSION:2.0
PRODID:-//Stephen King France - ECPv6.15.20//NONSGML v1.0//EN
CALSCALE:GREGORIAN
METHOD:PUBLISH
X-ORIGINAL-URL:https://stephenkingfrance.fr
X-WR-CALDESC:Évènements pour Stephen King France
REFRESH-INTERVAL;VALUE=DURATION:PT1H
X-Robots-Tag:noindex
X-PUBLISHED-TTL:PT1H
BEGIN:VTIMEZONE
TZID:Europe/Paris
BEGIN:DAYLIGHT
TZOFFSETFROM:+0100
TZOFFSETTO:+0200
TZNAME:CEST
DTSTART:20230326T010000
END:DAYLIGHT
BEGIN:STANDARD
TZOFFSETFROM:+0200
TZOFFSETTO:+0100
TZNAME:CET
DTSTART:20231029T010000
END:STANDARD
BEGIN:DAYLIGHT
TZOFFSETFROM:+0100
TZOFFSETTO:+0200
TZNAME:CEST
DTSTART:20240331T010000
END:DAYLIGHT
BEGIN:STANDARD
TZOFFSETFROM:+0200
TZOFFSETTO:+0100
TZNAME:CET
DTSTART:20241027T010000
END:STANDARD
BEGIN:DAYLIGHT
TZOFFSETFROM:+0100
TZOFFSETTO:+0200
TZNAME:CEST
DTSTART:20250330T010000
END:DAYLIGHT
BEGIN:STANDARD
TZOFFSETFROM:+0200
TZOFFSETTO:+0100
TZNAME:CET
DTSTART:20251026T010000
END:STANDARD
END:VTIMEZONE
BEGIN:VEVENT
DTSTART;TZID=Europe/Paris:20240916T140000
DTEND;TZID=Europe/Paris:20240916T170000
DTSTAMP:20260421T010148
CREATED:20260420T100240Z
LAST-MODIFIED:20260420T100254Z
UID:23266-1726495200-1726506000@stephenkingfrance.fr
SUMMARY:[US] Stephen King participe à "Scare up the vote"
DESCRIPTION:Le 15 octobre 2024\, l’événement en ligne Scare Up The Vote réunira des figures majeures de l’horreur\, dont Stephen King\, pour une collecte de fonds en soutien à Kamala Harris et Tim Walz. \n\nEn savoir plus
URL:https://stephenkingfrance.fr/agenda/us-stephen-king-participe-a-scare-up-the-vote/
CATEGORIES:Conférence
ATTACH;FMTTYPE=image/webp:https://stephenkingfrance.fr/wp-content/uploads/2024/10/scare-up-the-vote.webp
END:VEVENT
END:VCALENDAR