BEGIN:VCALENDAR
VERSION:2.0
PRODID:-//Stephen King France - ECPv6.15.20//NONSGML v1.0//EN
CALSCALE:GREGORIAN
METHOD:PUBLISH
X-WR-CALNAME:Stephen King France
X-ORIGINAL-URL:https://stephenkingfrance.fr
X-WR-CALDESC:Évènements pour Stephen King France
REFRESH-INTERVAL;VALUE=DURATION:PT1H
X-Robots-Tag:noindex
X-PUBLISHED-TTL:PT1H
BEGIN:VTIMEZONE
TZID:Europe/Paris
BEGIN:DAYLIGHT
TZOFFSETFROM:+0100
TZOFFSETTO:+0200
TZNAME:CEST
DTSTART:20200329T010000
END:DAYLIGHT
BEGIN:STANDARD
TZOFFSETFROM:+0200
TZOFFSETTO:+0100
TZNAME:CET
DTSTART:20201025T010000
END:STANDARD
BEGIN:DAYLIGHT
TZOFFSETFROM:+0100
TZOFFSETTO:+0200
TZNAME:CEST
DTSTART:20210328T010000
END:DAYLIGHT
BEGIN:STANDARD
TZOFFSETFROM:+0200
TZOFFSETTO:+0100
TZNAME:CET
DTSTART:20211031T010000
END:STANDARD
BEGIN:DAYLIGHT
TZOFFSETFROM:+0100
TZOFFSETTO:+0200
TZNAME:CEST
DTSTART:20220327T010000
END:DAYLIGHT
BEGIN:STANDARD
TZOFFSETFROM:+0200
TZOFFSETTO:+0100
TZNAME:CET
DTSTART:20221030T010000
END:STANDARD
END:VTIMEZONE
BEGIN:VEVENT
DTSTART;TZID=Europe/Paris:20210918T213000
DTEND;TZID=Europe/Paris:20210918T223000
DTSTAMP:20260425T024434
CREATED:20260420T122313Z
LAST-MODIFIED:20260420T122341Z
UID:23452-1632000600-1632004200@stephenkingfrance.fr
SUMMARY:Stephen King au festival "Bloody Scotland"
DESCRIPTION:“Du 17 au 19 septembre\, notre festival 2021 inclura Kathy Reichs\, Karin Slaughter\, Lee Child et Stephen King qui seront retransmis dans le Albert Halls via une liaison vidéo en direct où des questions leur seront posées par le public\, présent sur place ou en ligne.” annonce le festival. \n\n\n\nStephen King interviendra le 18 septembre à 21h30 (heure de Paris) avec Linwood Barclay. \n\nPlus d’infos
URL:https://stephenkingfrance.fr/agenda/stephen-king-au-festival-bloody-scotland/
CATEGORIES:Conférence
END:VEVENT
END:VCALENDAR