BEGIN:VCALENDAR
VERSION:2.0
PRODID:-//Stephen King France - ECPv6.15.20//NONSGML v1.0//EN
CALSCALE:GREGORIAN
METHOD:PUBLISH
X-WR-CALNAME:Stephen King France
X-ORIGINAL-URL:https://stephenkingfrance.fr
X-WR-CALDESC:Évènements pour Stephen King France
REFRESH-INTERVAL;VALUE=DURATION:PT1H
X-Robots-Tag:noindex
X-PUBLISHED-TTL:PT1H
BEGIN:VTIMEZONE
TZID:Europe/Paris
BEGIN:DAYLIGHT
TZOFFSETFROM:+0100
TZOFFSETTO:+0200
TZNAME:CEST
DTSTART:20220327T010000
END:DAYLIGHT
BEGIN:STANDARD
TZOFFSETFROM:+0200
TZOFFSETTO:+0100
TZNAME:CET
DTSTART:20221030T010000
END:STANDARD
BEGIN:DAYLIGHT
TZOFFSETFROM:+0100
TZOFFSETTO:+0200
TZNAME:CEST
DTSTART:20230326T010000
END:DAYLIGHT
BEGIN:STANDARD
TZOFFSETFROM:+0200
TZOFFSETTO:+0100
TZNAME:CET
DTSTART:20231029T010000
END:STANDARD
BEGIN:DAYLIGHT
TZOFFSETFROM:+0100
TZOFFSETTO:+0200
TZNAME:CEST
DTSTART:20240331T010000
END:DAYLIGHT
BEGIN:STANDARD
TZOFFSETFROM:+0200
TZOFFSETTO:+0100
TZNAME:CET
DTSTART:20241027T010000
END:STANDARD
END:VTIMEZONE
BEGIN:VEVENT
DTSTART;TZID=Europe/Paris:20231102T000000
DTEND;TZID=Europe/Paris:20231102T235900
DTSTAMP:20260422T191541
CREATED:20260414T133504Z
LAST-MODIFIED:20260414T154302Z
UID:22886-1698883200-1698969540@stephenkingfrance.fr
SUMMARY:[FR] Deuxième tome du comic adapté de “Sleeping Beauties”
DESCRIPTION:Les éditions du Livre de Poche éditent en français l’adaptation en bande dessinée de Sleeping Beauties</ strong>\, le roman de Stephen King et Owen King. \nLe 2e et dernier tome est prévu pour le 2 novembre 2023. \n\nInfos et précommande
URL:https://stephenkingfrance.fr/agenda/fr-deuxieme-tome-du-comic-adapte-de-sleeping-beauties/
CATEGORIES:Cinéma
END:VEVENT
END:VCALENDAR